BEGIN:VCALENDAR
VERSION:2.0
PRODID:-//wp-events-plugin.com//7.2.3.1//EN
TZID:Europe/Zagreb
X-WR-TIMEZONE:Europe/Zagreb
BEGIN:VEVENT
UID:2362@dev.komedija.hr
DTSTART;TZID=Europe/Zagreb:20251217T210000
DTEND;TZID=Europe/Zagreb:20251217T230000
DTSTAMP:20251208T091205Z
URL:https://dev.komedija.hr/www/events/j-austen-ponos-i-predrasude-uvertir
 a-2/
SUMMARY:J. Austen: PONOS I PREDRASUDE - uvertira
DESCRIPTION:
CATEGORIES:Izvodi se u Palači Dverce,[ KAZALIŠTE KOMEDIJA ]
LOCATION:https://www.ulaznice.hr/web/event-browse/8/20154
END:VEVENT
BEGIN:VTIMEZONE
TZID:Europe/Zagreb
X-LIC-LOCATION:Europe/Zagreb
BEGIN:STANDARD
DTSTART:20251026T020000
TZOFFSETFROM:+0200
TZOFFSETTO:+0100
TZNAME:CET
END:STANDARD
END:VTIMEZONE
END:VCALENDAR