BEGIN:VCALENDAR
VERSION:2.0
PRODID:-//wp-events-plugin.com//7.2.3.1//EN
TZID:Europe/Zagreb
X-WR-TIMEZONE:Europe/Zagreb
BEGIN:VEVENT
UID:2254@dev.komedija.hr
DTSTART;TZID=Europe/Zagreb:20250521T200000
DTEND;TZID=Europe/Zagreb:20250521T220000
DTSTAMP:20250516T131540Z
URL:https://dev.komedija.hr/www/events/jazz-lab-koncert-jurica-bajevic-5te
 t/
SUMMARY:Jazz Lab koncert: Jurica Bajević 5tet
DESCRIPTION:Jurica Bajević 5tet čine mladi jazz glazbenici iz Hrvatske i 
 Slovenije. Za ovu prigodu izvest će neke od skladbi domaćih jazz kompozi
 tora\, autorsku glazbu uz mali povratak u romantizam. Sastav čine: Jurica
  Bajević (truba)\, Bruno Bišćan (tenor sax)\, Miha Kokot (klavir)\, Jak
 a Krušič (kontrabas) i Petar Rogulj (bubnjevi).&nbsp\;
ATTACH;FMTTYPE=image/jpeg:https://dev.komedija.hr/www/wp-content/uploads/2
 025/04/JB5tet-scaled.png
CATEGORIES:KLUB KAZALIŠTA KOMEDIJA (Cesarčeva 2)
END:VEVENT
BEGIN:VTIMEZONE
TZID:Europe/Zagreb
X-LIC-LOCATION:Europe/Zagreb
BEGIN:DAYLIGHT
DTSTART:20250330T030000
TZOFFSETFROM:+0100
TZOFFSETTO:+0200
TZNAME:CEST
END:DAYLIGHT
END:VTIMEZONE
END:VCALENDAR