BEGIN:VCALENDAR
VERSION:2.0
PRODID:-//wp-events-plugin.com//7.2.3.1//EN
TZID:Europe/Zagreb
X-WR-TIMEZONE:Europe/Zagreb
BEGIN:VEVENT
UID:2224@dev.komedija.hr
DTSTART;TZID=Europe/Zagreb:20250413T170000
DTEND;TZID=Europe/Zagreb:20250413T210000
DTSTAMP:20250328T112137Z
URL:https://dev.komedija.hr/www/events/jazz-lab-radionica-i-jam-session-mi
 rsad-dalipi-bubnjevi/
SUMMARY:Jazz Lab radionica i jam session: Mirsad Dalipi\, bubnjevi
DESCRIPTION:/O MENTORU/\n\nMirsad Dalipi rođen je 1988. godine u Prištini
 \, Kosovo. Svoje glazbene preferencije otkrio je kao klinac kada je s 5-6 
 godina po prvi put imao priliku zasvirao bubnjeve od susjeda te ih otad ko
 risti u svom radu i djelovanju. 2011. godine zajedno sa svojim prijateljem
  pjevačem Bajram Kafu Kinolli osnovao je bend Gipsy Groove i ubrzo okupio
  neke od najboljih muzičara s Kosova\, a trenutačno djeluju u New Yorku\
 , Istanbulu i Njemačkoj\, kao što su: Visar Kuqi Taulant Mehmeti\,Faruk 
 Banjska\, Enver Muhamedi\, Fatlind Ferati\, Arian Randubrava\, njihova bra
 ća iz MKD Ivan Ivanov i Igor Ivanov. 2011/12 izdali su dva albuma sa 16 p
 jesmama u stilovima Gipsy\, Ska reggae\, funk\, jazz\, groove. Albumi su p
 romovirani u našoj regiji\, održane su turneje Europom i Azijom.\n\n 	go
 dine Mirsad je preselio u Zagreb gdje se uglavnom bavi glazbom te svira i 
 surađuje s hrvatskim renomiranim muzičarima kao što su: Mario Rašić\,
  Joe i Lela Kaplowitz\, Zvonimir Bajević\, Davor Doležal\, Zvonimir Šes
 tak\, Elvis Stanić\, Valerija Nikolovska\, Viktor Lipić\, Dina Rizvić\,
  Miro Kadoić\, Elvis Penava\, Ivan Kapec\, Grga Savić\, Pavle Jovanović
 \, Nikola Šantek\, Joe Pandur\, Andreas Marinelo\, Regis Kattie\, Luka Č
 apeta itd.\n\n&nbsp\;\n\nMirsadu će se na Jam sessionu pridružiti i sess
 ion bend:\nZvonimir Bajević - truba\nRegis Kattie - Hammond klavijature\n
 \n/O RADIONICI/\nListen carefully play beautifully\nBubnjarska radionica p
 osvećena je interakciji\, i pratnji kolega dok sviramo zajedno. Biti&nbsp
 \;Session bubnjar je jako teško\, nema pripreme za pjesme\, svašta se do
 bro i loše&nbsp\;dešava. Kako mi kao bubnjari možemo podizati nivo cije
 log benda? Sigurno vas zanimaju&nbsp\;balkanski ritmovi? Kosovo? Albanija?
  Makedonija? I to ćemo također komunicirati.&nbsp\;&nbsp\;Ego muzičara 
 često zna donijeti loš Vibe u svirku\, zašto se trebamo prilagoditi ben
 du i kada&nbsp\;trebamo uzeti odgovornost da vodimo bend? Za sve ovo doist
 a nam treba priprema\,&nbsp\;slušanje glazbe\, različitih stilova\, imat
 i iskustva je ključno za lijepo muziciranje\, kao i voljeti svoj instrume
 nt! Aktivno svirati par sati dnevno te znati što vježbati\, imati redosl
 ijed vježbanja i\, onda tek to postane dio života\, a što smo stariji\,
  ljepše čujemo i sviramo:)\n\nRadionica je posvećena interakciji i vođ
 enju benda\, ponekad treba i ne svirati\, nego stati\,&nbsp\;slušati\, i 
 to je ljepota sviranja\, a ne ići sam na svoj put - onda nas nema nigdje\
 , niti osobno&nbsp\;niti kolektivno!\n\nPričamo komentiramo kako i što m
 ožemo mi kao bubnjari doprinijeti u glazbi. Moj guru&nbsp\;jednom mi je r
 ekao: Kako pričaš tako i sviraš.
ATTACH;FMTTYPE=image/jpeg:https://dev.komedija.hr/www/wp-content/uploads/2
 024/09/jazz-lab.jpg
CATEGORIES:KLUB KAZALIŠTA KOMEDIJA (Cesarčeva 2)
END:VEVENT
BEGIN:VTIMEZONE
TZID:Europe/Zagreb
X-LIC-LOCATION:Europe/Zagreb
BEGIN:DAYLIGHT
DTSTART:20250330T030000
TZOFFSETFROM:+0100
TZOFFSETTO:+0200
TZNAME:CEST
END:DAYLIGHT
END:VTIMEZONE
END:VCALENDAR