BEGIN:VCALENDAR
VERSION:2.0
PRODID:-//wp-events-plugin.com//7.2.3.1//EN
TZID:Europe/Zagreb
X-WR-TIMEZONE:Europe/Zagreb
BEGIN:VEVENT
UID:2167@dev.komedija.hr
DTSTART;TZID=Europe/Zagreb:20250223T170000
DTEND;TZID=Europe/Zagreb:20250223T210000
DTSTAMP:20250205T143653Z
URL:https://dev.komedija.hr/www/events/jazz-lab-radionica-i-jam-session-st
 uck-in-the-loop-with-you/
SUMMARY:Jazz Lab radionica i jam session "Stuck in the loop with you"
DESCRIPTION:Nedjelja 23.2. Jazz Lab radionica i jam session "Stuck in the l
 oop with you"\nmentori Toni Starešinić i Đuro Dobranić (Tony &amp\; Gu
 y)\n17-19 sati - radionica\n19-21 jam sat - jam session\n\nUlaz slobodan!
ATTACH;FMTTYPE=image/jpeg:https://dev.komedija.hr/www/wp-content/uploads/2
 024/09/jazz-lab.jpg
CATEGORIES:KLUB KAZALIŠTA KOMEDIJA (Cesarčeva 2)
END:VEVENT
BEGIN:VTIMEZONE
TZID:Europe/Zagreb
X-LIC-LOCATION:Europe/Zagreb
BEGIN:STANDARD
DTSTART:20241027T020000
TZOFFSETFROM:+0200
TZOFFSETTO:+0100
TZNAME:CET
END:STANDARD
END:VTIMEZONE
END:VCALENDAR