BEGIN:VCALENDAR
VERSION:2.0
PRODID:-//wp-events-plugin.com//7.2.3.1//EN
TZID:Europe/Zagreb
X-WR-TIMEZONE:Europe/Zagreb
BEGIN:VEVENT
UID:1985@dev.komedija.hr
DTSTART;TZID=Europe/Zagreb:20241023T170000
DTEND;TZID=Europe/Zagreb:20241023T220000
DTSTAMP:20240912T121241Z
URL:https://dev.komedija.hr/www/events/jazz-lab-radionica-saksofona-jam-se
 ssion-mentor-vojkan-jocic/
SUMMARY:JAZZ LAB RADIONICA SAKSOFONA & JAM SESSION\, Mentor: Vojkan Jocić
DESCRIPTION:
ATTACH;FMTTYPE=image/jpeg:https://dev.komedija.hr/www/wp-content/uploads/2
 024/09/jazz-lab.jpg
CATEGORIES:KLUB KAZALIŠTA KOMEDIJA (Cesarčeva 2),ulaz slobodan
END:VEVENT
BEGIN:VTIMEZONE
TZID:Europe/Zagreb
X-LIC-LOCATION:Europe/Zagreb
BEGIN:DAYLIGHT
DTSTART:20240331T030000
TZOFFSETFROM:+0100
TZOFFSETTO:+0200
TZNAME:CEST
END:DAYLIGHT
END:VTIMEZONE
END:VCALENDAR