BEGIN:VCALENDAR
VERSION:2.0
PRODID:-//wp-events-plugin.com//7.2.3.1//EN
TZID:Europe/Zagreb
X-WR-TIMEZONE:Europe/Zagreb
BEGIN:VEVENT
UID:2318@dev.komedija.hr
DTSTART;TZID=Europe/Zagreb:20251017T210000
DTEND;TZID=Europe/Zagreb:20251017T230000
DTSTAMP:20250926T122704Z
URL:https://dev.komedija.hr/www/events/jazz-orkestar-hrt-a-i-miron-hauser/
SUMMARY:Jazz orkestar HRT-a i Miron Hauser
DESCRIPTION:Jazz orkestar HRT-a pod vodstvom Mirona Hausera priprema posebn
 o glazbeno putovanje kroz svijet latin jazza\, s naglaskom na povezivanju 
 različitih kultura i glazbenih stilova. Energični ritmovi\, vatromet ins
 trumentalnih boja\, dinamične improvizacije – sve to očekuje nas uz gl
 azbu koja nosi istinski plesni ugođaj i neodoljivu pozitivnu energiju.\n\
 nU vatrene afrokubanske ritmove i zvukove uvest će nas Bembé osnivača J
 azz orkestra HRT-a Zlatka Černjula. Ta skladba već godinama nosi status 
 zaštitnog znaka HRT-ove emisije Vrijeme je za jazz i podsjeća na bogatu 
 jazz tradiciju u Hrvatskoj\, ali i početke našega orkestra.\n\nNight in 
 Tunisia klasik je legendarnog Dizzyja Gillespieja\, jednog od začetnika b
 ebopa\, koji je u svoj glazbeni izričaj uveo afrokubanske ritmove. Gilles
 pie je svoj jazz spojio s elementima kubanske\, afričke i karipske glazbe
 \, čineći ovaj stil posebnim. Na programu je i Manteca koju su 1947. god
 ine zajednički skladali Dizzy Gillespie i kubanski udaraljkaš Chano Pozo
 \, uz aranžman Gila Fullera. Riječ je o jednoj od najranijih i najpoznat
 ijih melodija afrokubanskog jazza.\n\nLa Fiesta je jedan od klasika pionir
 a jazz fusiona\, Chica Coree\, a u aranžmanu Michaela Philipa Mossmana do
 bila je vatrenu afrokubansku verziju. Jednako vatrena je i obrada mambo hi
 ta Oye como va Tita Puentea\, koji je 1970. godine popularizirao Santana\,
  a još jedan njegov mambo\, Ran Kan Kan - u kojemu vodstvo preuzimaju uda
 raljke – čut ćemo nakon hita Mueva Los Huesos. Riječ je o skladbi s a
 lbuma koji je Gordon Goodwin's Big Phat Band objavio 2001. kao svoj debi i
  na kojemu je gotovo sve skladbe (osim Dvoglasne invencije u d-molu J. S. 
 Bacha) skladao upravo Gordon Goodwin.\n\nUmjetnički voditelj Jazz orkestr
 a HRT-a Miron Hauser\, kao veliki zaljubljenik u latin jazz\, i sam sklada
  nadahnut tim žanrom\, pa su na programu i dvije njegove skladbe: Tumbao\
 , koja je 2020. godine objavljena na istoimenom albumu Tumbao Cubisma i Ja
 zz orkestra HRT-a\, te Hija De Yemaya\, koja se nalazi na prošle godine o
 bjavljenom Hauserovom prvom autorskom albumu Moja Kuba. Oba izdanja nagra
 đena su Porinom u kategoriji 'najbolji album jazz glazbe'.\n\n&nbsp\;\n\n
 Jazz orkestar Hrvatske radiotelevizije\, jedini profesionalni sastav te vr
 ste u Hrvatskoj\, svojim neprekidnim djelovanjem gotovo osam desetljeća\,
  svrstava se među najdugovječnije big bandove na svijetu. Utemeljen je u
  sezoni 1946./1947. kao Plesni orkestar Radio Zagreba za potrebe radijskih
  emisija i snimanja\, da bi s vremenom počeo i javno nastupati\; osim sud
 jelovanja u mnogim javnim emisijama te samostalnih koncerata u zemlji i in
 ozemstvu\, od 2000. godine održava vlastiti koncertni ciklus koji se izra
 vno prenosi na Trećem programu Hrvatskoga radija.\n\nOd vodstva prvih dir
 igenata\, Zlatka Černjula\, Miroslava Killera\, Milivoja Körblera i Niki
 ce Kalogjere\, preko Miljenka Prohaske\, do Silvija Glojnarića\, Saše Ne
 storovića\, Andreasa Marinella\, orkestar se profilirao u jedan od najutj
 ecajnijih jazz sastava na našoj sceni i pravi nukleus ponajboljih jazz-gl
 azbenika. Jedna od posebnosti orkestra je što većina njegovih članova\,
  osim kao izvođači\, djeluju i kao skladatelji i aranžeri. Miljenko Pro
 haska\, koji je orkestar vodio najdulje\, od 1955. do 1989.\, usmjerio je 
 programsku orijentaciju na domaći repertoar\, čime je orkestar izgradio 
 specifični stil\, prepoznatljiv u međunarodnim granicama. Ta praksa traj
 e i danas kroz autorske koncerte članova orkestra i mnogobrojne suradnje 
 s domaćim glazbenicima raznih žanrovskih opredjeljenja. Istodobno\, vode
 ći glazbenici međunarodne jazz-scene redovito gostuju kao solisti i diri
 genti\, a sve to zabilježeno je na audio i videosnimkama pohranjenima u a
 rhivi HRT-a i višestruko nagrađivanim diskografskim izdanjima\; među po
 sljednjima su Candide\, autorski album Maria Bočića (Croatia Records/HRT
 )\, Dino Dvornik Tribute (Croatia Records/HRT)\, te Moja Kuba\, autorski a
 lbum Mirona Hausera (Cantus / HRT).\n\nOd sezone 2019./2020. umjetnički v
 oditelj je Miron Hauser.\n\n&nbsp\;\n\nMiron Hauser (Pula\, 1985.) diplomi
 rao jazz trombon na Sveučilištu za glazbu i primijenjene umjetnosti u Gr
 azu u klasi Eda Neumeistera\, te magistrirao na Konzervatoriju Giuseppe Ta
 rtini u Trstu. Tijekom školovanja sudjelovao je na seminarima i radionica
 ma istaknutih jazz glazbenika i pedagoga. Prve doticaje s jazzom ostvario 
 je i prije formalnog obrazovanja\, kao član Jazz orkestra Hrvatske glazbe
 ne mladeži (2004. - 2012.) gdje ostvaruje suradnje s uglednim glazbenicim
 a svjetske jazz scene:&nbsp\;Toshiko Akiyoshi\, Joseph Bowie\, John Hollen
 beck\, Dave Liebman\, Peter Erskine\, Jim McNeely\, Miljenko Prohaska\, Ye
 llowjackets\, Randy Brecker\, Bob Mintzer i drugi. Od 2011. član je Jazz 
 orkestra HRT-a gdje je također imao priliku svirati s brojnim eminentnim 
 svjetskim jazz glazbenicima. Jedan je od osnivača Jazzistra orkestra u ko
 jem djeluje kao aranžer\, skladatelj\, dirigent i trombonist. Član je sl
 ovensko-kubanskog sastava Los Señores\, povremeni gost sastava Cubismo\, 
 a svirao je i s kubanskom salsa grupom Maykel Blanco y su salsa mayor. Od 
 2011. do 2016. bio je stalni član pop-sastava Jinx. Surađivao je i s niz
 om hrvatskih pop-glazbenika\, među kojima su Oliver Dragojević\, Nina Ba
 drić\, Natali Dizdar i Gibonni. Od osnivanja ansambla do 2019.\, kao teno
 r-trombonist\, skladatelj i aranžer\, bio je član jazz seksteta B’s Fu
 nstallation.&nbsp\;Trostruki je dobitnik nagrade Status Hrvatske glazbene 
 unije za najboljeg jazz trombonista\, te višestruki dobitnik nagrade Pori
 n. Na svojemu prvom autorskom albumu\, Moja Kuba (Cantus\, HRT\, 2024.)\, 
 zabilježenom uz Jazz orkestar HRT-a\, predstavio se kao skladatelj\, aran
 žer\, trombonist i dirigent. Album je nagrađen Porinom u kategoriji 'naj
 bolji album jazz glazbe'. Umjetnički je voditelj Jazz orkestra HRT-a od s
 ezone 2019./2020.\nUlaznice dostupne online na ulaznice.hr te na blagajni 
 Kluba Kazališta Komedija. Radno vrijeme blagajne je od 18:30 do 21:30\,&n
 bsp\;isključivo na dane kada se održavaju predstave/programi u Klubu.
ATTACH;FMTTYPE=image/jpeg:https://dev.komedija.hr/www/wp-content/uploads/2
 025/09/HRT_Miron_WEB_feature-post_350x245.jpg
CATEGORIES:KLUB KAZALIŠTA KOMEDIJA (Cesarčeva 2)
LOCATION:https://www.ulaznice.hr/web/event-browse/8/19867
END:VEVENT
BEGIN:VTIMEZONE
TZID:Europe/Zagreb
X-LIC-LOCATION:Europe/Zagreb
BEGIN:DAYLIGHT
DTSTART:20250330T030000
TZOFFSETFROM:+0100
TZOFFSETTO:+0200
TZNAME:CEST
END:DAYLIGHT
END:VTIMEZONE
END:VCALENDAR