BEGIN:VCALENDAR
VERSION:2.0
PRODID:-//wp-events-plugin.com//7.2.3.1//EN
TZID:Europe/Zagreb
X-WR-TIMEZONE:Europe/Zagreb
BEGIN:VEVENT
UID:1565@dev.komedija.hr
DTSTART;TZID=Europe/Zagreb:20221212T200000
DTEND;TZID=Europe/Zagreb:20221212T210000
DTSTAMP:20221125T135050Z
URL:https://dev.komedija.hr/www/events/jubilarni-koncert-za-stitnjacu/
SUMMARY:JUBILARNI KONCERT ZA ŠTITNJAČU
DESCRIPTION:U organizaciji Hrvatske udruge za bolesti štitnjače.\n\nIzvo
 đači:\n\nMartina Tomčić\nAdela Golac Rilović\nsestre Husar Ivana i Ma
 rija\nglazbena škola Husar Tomčić\n\n&nbsp\;\n\nUlaznice se mogu kupiti
  online ili na blagajnama Komedije.
END:VEVENT
BEGIN:VTIMEZONE
TZID:Europe/Zagreb
X-LIC-LOCATION:Europe/Zagreb
BEGIN:STANDARD
DTSTART:20221030T020000
TZOFFSETFROM:+0200
TZOFFSETTO:+0100
TZNAME:CET
END:STANDARD
END:VTIMEZONE
END:VCALENDAR