BEGIN:VCALENDAR
VERSION:2.0
PRODID:-//wp-events-plugin.com//7.2.3.1//EN
TZID:Europe/Zagreb
X-WR-TIMEZONE:Europe/Zagreb
BEGIN:VEVENT
UID:2282@dev.komedija.hr
DTSTART;TZID=Europe/Zagreb:20250606T193000
DTEND;TZID=Europe/Zagreb:20250606T213000
DTSTAMP:20250513T115242Z
URL:https://dev.komedija.hr/www/events/kokan-mladenovic-juha-brace-marx-5/
SUMMARY:Kokan Mladenović: JUHA BRAĆE MARX
DESCRIPTION:
CATEGORIES:[ KAZALIŠTE KOMEDIJA ]
LOCATION:https://www.ulaznice.hr/web/event-browse/8/19301
END:VEVENT
BEGIN:VTIMEZONE
TZID:Europe/Zagreb
X-LIC-LOCATION:Europe/Zagreb
BEGIN:DAYLIGHT
DTSTART:20250330T030000
TZOFFSETFROM:+0100
TZOFFSETTO:+0200
TZNAME:CEST
END:DAYLIGHT
END:VTIMEZONE
END:VCALENDAR