BEGIN:VCALENDAR
VERSION:2.0
PRODID:-//wp-events-plugin.com//7.2.3.1//EN
TZID:Europe/Zagreb
X-WR-TIMEZONE:Europe/Zagreb
BEGIN:VEVENT
UID:2270@dev.komedija.hr
DTSTART;TZID=Europe/Zagreb:20250513T193000
DTEND;TZID=Europe/Zagreb:20250513T213000
DTSTAMP:20250508T114855Z
URL:https://dev.komedija.hr/www/events/koncert-euroradio-jazz-orkestra-202
 5-2/
SUMMARY:KONCERT EURORADIO JAZZ ORKESTRA 2025.
DESCRIPTION:Jazz orkestar Euroradija slavi 60. rođendan\n\nOd 1965. jazz p
 roducenti Europske radiodifuzijske unije (EBU) svake godine okupljaju big 
 band koji uključuje najbolje mlade glazbenike iz europskih zemalja. Svaki
  put s drugim glazbenicima\, dirigentom\, programom i u drugoj zemlji.\nPo
 vodom ove velike obljetnice svečanu priredbu ugostit će Slovenija.\nPart
 ner u projektu je Hrvatska radiotelevizija pa će tako biti dva koncerta.\
 n\nU Ljubljani 12.5.2025.&nbsp\; (Cukrarna) i sutradan u Zagrebu 13.5.2025
 . (Klub Kazališta Komedija)!\nNastupit će 19 glazbenika iz 15 europskih 
 zemalja pod vodstvom dirigenta i skladatelja Matjaža Mikuletiča.\n\nKonc
 erte možete pratiti uživo na:\n12.5.2025.: Programu Ars i na RTV365\n13.
 5.2025.:&nbsp\; Trećem programu Hrvatskog radija\n\niz uvodnika:\n\nEURO 
 RADIJSKI JAZZ ORKESTRI – 60 GODINA\n\n 	godine izašao je album »A Love
  Supreme«\, što ga je potpisao legendarni John Coltrane\, zatim »Song F
 or My Father« Horacea Silvera\, »The Thing To Do« Blue Mitchella\, »Ju
 ju« Waynea Shorterja i »E.S.P.« Milesa Davisa. A Europski savez radijsk
 ih postaja (EBU – European Broadcasting Union) pod svojim je okriljem or
 ganizirao svoj prvi jazz orkestar.\n\nJazz producenti sa nacionalnih radij
 skih postaja iz cijele Europe tada su delegirali svoje najbolje glazbenike
 \, koji su se okupili u njemačkom Stuttgartu i tako postali pioniri europ
 skih projekata. Da umjetnost i s njom i jazz ne razdvaja\, nego udružuje\
 , znamo već dugo. 60 godina druženja\, zajedničkog stvaranja i planiran
 ja europske budućnosti urodilo je hvale vrijednim brojem izvrsnih koncera
 ta\, novih kompozicija i smjernica novog europskog jazza. Nacionalne radij
 ske postaje iz cijele Europe i šire kroz mrežu EBU desetljećima su ostv
 arivale najdublje ciljeve Europske unije. Svake godine u drugoj državi do
 maćinu\, s drugim glazbenicima\, s novim dirigentom i glazbom napisanom p
 osebno za tu priliku.\n\nTijekom svoje povijest orkestar je inače više p
 uta mijenjao naziv. EBU Big Band\, EBU European Jazz Orchestra\, Euroradio
  Big Band i napokon Euroradio Jazz Orchestra. No uvijek je to bila klasič
 na forma velikog jazz orkestra\, sa sekcijama truba\, trombona\, saksofona
  i ritma. U postavu su se dosta puta uključivali i dodatni egzotični lok
 alni instrumenti\, a glazba je uvijek odražavala i sredinu u kojoj je nas
 tala. Doista\, pravi europski projekt!\n\nS vremenom se unutar EBU formira
 la skupina jazz producenata (EBU Jazz Producers Group)\, koja se brinula z
 a razvoj mnogih zajedničkih jazz projekata – EBU Jazz Festival\, Eurora
 dio Jazz Season\, Euroradio Jazz Competition\, Euroradio Jazz Day\, Eurora
 dio Jazz Orchestra. Suština i glavni zajednički nazivnik uvijek je bila 
 razmjena snimljenih koncerata. Europske i također pridružene izvaneurops
 ke (Kina\, Koreja\, Japan\, SAD\, Kanada) nacionalne radijske postaje su t
 ako samo\, na primjer\, tijekom 2024.godine razmijenile gotovo četiri sto
 tine jazz koncerata.\n\nSkupinu jazz producenata tijekom šest desetljeća
  vodili su Christian Heidsieck (?-1991)\, Lars-Göran Ulander (1993-2004)\
 , Daniel Vachon (2005-2009)\, Hugo Šekoranja (2010-2019)\, Markus Partane
 n (2020-2021)\, Anikken Sunde (2022-2025) i Laima Slepkovaite (2022-2025).
  Razvoju jazza unutar EBU značajan doprinos dao je dugogodišnji voditelj
  glazbe (Euroradio Head of Music) Pierre-Yves Tribolet (1991-2015) i njego
 va nasljednica Pascale Labrie (2015-danas). U razdoblju između 2005. i 20
 13. godine EBU Big Band udružio se sa European Youth Orchestra\, ansamblo
 m što ga je organizirala danska fundacija Swinging Europe pod vodstvom Er
 ika Moseholma.\n\nVisoki jubilej\, 60-godišnjicu orkestra\, obilježit ć
 e&nbsp\; suradnja između slovenskog i hrvatskog nacionalnog radija. Tako 
 ćemo reprizu ljubljanskog koncerta moći doživjeti&nbsp\; i u znamenitom
  klubu u središtu Zagreba. Hvala urednici Jeleni Balent\, cjelokupnoj eki
 pi Hrvatskog radija i jazz klubu Kontesa.\n\nA posebnu zahvalu upućujemo 
 ovogodišnjem dirigentu i kompozitoru Matjažu Mikuletiču\, koji je osmis
 lio i napisao sve skladbe.\n\nNeka živi Euro radijski jazz orkestar!\n\nH
 ugo Šekoranja\, Program Ars\n\n&nbsp\;\n\n&nbsp\;\n\n&nbsp\;
ATTACH;FMTTYPE=image/jpeg:https://dev.komedija.hr/www/wp-content/uploads/2
 025/05/Euroradio_Jazz_WEB_feature-post_350x245.png
CATEGORIES:KLUB KAZALIŠTA KOMEDIJA (Cesarčeva 2)
LOCATION:https://www.ulaznice.hr/web/event-browse/8/19487
END:VEVENT
BEGIN:VTIMEZONE
TZID:Europe/Zagreb
X-LIC-LOCATION:Europe/Zagreb
BEGIN:DAYLIGHT
DTSTART:20250330T030000
TZOFFSETFROM:+0100
TZOFFSETTO:+0200
TZNAME:CEST
END:DAYLIGHT
END:VTIMEZONE
END:VCALENDAR