BEGIN:VCALENDAR
VERSION:2.0
PRODID:-//wp-events-plugin.com//7.2.3.1//EN
TZID:Europe/Zagreb
X-WR-TIMEZONE:Europe/Zagreb
BEGIN:VEVENT
UID:2398@dev.komedija.hr
DTSTART;TZID=Europe/Zagreb:20260207T203000
DTEND;TZID=Europe/Zagreb:20260207T223000
DTSTAMP:20260205T120654Z
URL:https://dev.komedija.hr/www/events/koncert-juznoamericke-glazbe-i-milo
 nga/
SUMMARY:KONCERT JUŽNOAMERIČKE GLAZBE I MILONGA
DESCRIPTION:&#x1f3b6\;&#x1f483\; Južna Amerika u jednom dahu! &#x1f57a\;&#
 x1f525\;\nSpoj melankolije Anda i strasti argentinskog tanga.\n\nČeka vas
  večer puna strasti\, emocija i ritma!\n\nAna Kolega i Kristina McFadden 
 uz gitarističku pratnju Darka Horvata izvest će neke od naljepših tango
  pjesama\, a ansambl Alma del viento ( Ivana Galić\, Zrinka Božičević 
 Plavec\, Darko Horvat\, Branimir Ranogajec) donosi zvuk andske Južne Amer
 ike -&nbsp\;chacarere\, zambe\, cuece.\n\nUz glazbu tanga do južnoamerič
 kog folkora\,&nbsp\;večer će obogatiti profesionalni plesači folklora i
  argentinskog tanga – jer neke se emocije najbolje pričaju pokretom.\n\
 n&#x2728\; Nakon koncerta slijedi MILONGA – plesnjak argentinskog tanga.
 \n\nPlešete ili samo gledate? Sve je u redu – svi su dobrodošli!\n\n&#
 x2764\;&#xfe0f\; Dođite\, osjetite ritam juga i zaplešite s nama!\n\n&nb
 sp\;ulUlaznice možete kupiti online na ulaznice.hr te na blagajni Kluba K
 azališta Komedija. Radno vrijeme blagajne je od 18:30 do 21:30\, isključ
 ivo na dane kada se održavaju predstave/programi u Klubu.
ATTACH;FMTTYPE=image/jpeg:https://dev.komedija.hr/www/wp-content/uploads/2
 026/01/koncert-juznoamericke-glazbe-i-milonga_WEB_feature-post_350x245-1.p
 ng
CATEGORIES:KLUB KAZALIŠTA KOMEDIJA (Cesarčeva 2)
LOCATION:https://www.ulaznice.hr/web/event-browse/8/20407
END:VEVENT
BEGIN:VTIMEZONE
TZID:Europe/Zagreb
X-LIC-LOCATION:Europe/Zagreb
BEGIN:STANDARD
DTSTART:20251026T020000
TZOFFSETFROM:+0200
TZOFFSETTO:+0100
TZNAME:CET
END:STANDARD
END:VTIMEZONE
END:VCALENDAR