BEGIN:VCALENDAR
VERSION:2.0
PRODID:-//wp-events-plugin.com//7.2.3.1//EN
TZID:Europe/Zagreb
X-WR-TIMEZONE:Europe/Zagreb
BEGIN:VEVENT
UID:2050@dev.komedija.hr
DTSTART;TZID=Europe/Zagreb:20241213T193000
DTEND;TZID=Europe/Zagreb:20241213T220000
DTSTAMP:20241206T144351Z
URL:https://dev.komedija.hr/www/events/m-grgic-a-kabiljo-jalta-jalta-26/
SUMMARY:M. Grgić - A. Kabiljo: JALTA\, JALTA
DESCRIPTION:Podjela 13. 12. 2024.:\nNina Filipovna\, domarka vile Aramovski
 : Sandra Bagarić\nGriša\, ruski sobar: Fabijan Pavao Medvešek\nLarry\, 
 američki sobar: Ronald Žlabur\nStanley\, engleski sobar: Dražen Bratuli
 ć\nSamuel\, sluga u vili Aramovski: Adalbert Turner\nMarfa\, sluškinja u
  vili Aramovski: Denis Grabarić\nBrigadirka: Mila Elegović\nAmerički ge
 neral: Zlatko Ožbolt\nRuski general: Goran Malus\nEngleski general: Nedim
  Prohić\nTomakejev\, šef ruskih agenata: Božidar Peričić\nMaki\, šef
  američkih agenata: Boris Barberić\nPetronius\, šef engleskih agenata: 
 Adam Končić\n\nPoveznica na stranicu o predstavi nalazi se ovdje.
ATTACH;FMTTYPE=image/jpeg:https://dev.komedija.hr/www/wp-content/uploads/2
 023/12/jalta_jalta_WEB_feature-post350x245.jpg
CATEGORIES:[ KAZALIŠTE KOMEDIJA ]
END:VEVENT
BEGIN:VTIMEZONE
TZID:Europe/Zagreb
X-LIC-LOCATION:Europe/Zagreb
BEGIN:STANDARD
DTSTART:20241027T020000
TZOFFSETFROM:+0200
TZOFFSETTO:+0100
TZNAME:CET
END:STANDARD
END:VTIMEZONE
END:VCALENDAR