BEGIN:VCALENDAR
VERSION:2.0
PRODID:-//wp-events-plugin.com//7.2.3.1//EN
TZID:Europe/Zagreb
X-WR-TIMEZONE:Europe/Zagreb
BEGIN:VEVENT
UID:2138@dev.komedija.hr
DTSTART;TZID=Europe/Zagreb:20250311T193000
DTEND;TZID=Europe/Zagreb:20250311T220000
DTSTAMP:20250311T130458Z
URL:https://dev.komedija.hr/www/events/m-grgic-a-kabiljo-jalta-jalta-28/
SUMMARY:M. Grgić - A. Kabiljo: JALTA\, JALTA
DESCRIPTION:Podjela 11. 3. 2025.:\nNina Filipovna\, domarka vile Aramovski:
  Renata Sabljak\nGriša\, ruski sobar: Fabijan Pavao Medvešek&nbsp\;\nLar
 ry\, američki sobar: Filip Hozjak\nStanley\, engleski sobar: Dražen Brat
 ulić\nSamuel\, sluga u vili Aramovski: Adalbert Turner\nMarfa\, sluškinj
 a u vili Aramovski: Vlatka Burić Dujmović\nBrigadirka: Jasna Palić Picu
 karić\nAmerički general: Zlatko Ožbolt\nRuski general: Goran Malus\nEng
 leski general: Saša Buneta\nTomakejev\, šef ruskih agenata: Božidar Per
 ičić\nMaki\, šef američkih agenata: Boris Barberić\nPetronius\, šef 
 engleskih agenata: Adam Končić\n\nPoveznica na stranicu o predstavi nala
 zi se ovdje.
ATTACH;FMTTYPE=image/jpeg:https://dev.komedija.hr/www/wp-content/uploads/2
 023/12/jalta_jalta_WEB_feature-post350x245.jpg
CATEGORIES:[ KAZALIŠTE KOMEDIJA ]
END:VEVENT
BEGIN:VTIMEZONE
TZID:Europe/Zagreb
X-LIC-LOCATION:Europe/Zagreb
BEGIN:STANDARD
DTSTART:20241027T020000
TZOFFSETFROM:+0200
TZOFFSETTO:+0100
TZNAME:CET
END:STANDARD
END:VTIMEZONE
END:VCALENDAR