BEGIN:VCALENDAR
VERSION:2.0
PRODID:-//wp-events-plugin.com//7.2.3.1//EN
TZID:Europe/Zagreb
X-WR-TIMEZONE:Europe/Zagreb
BEGIN:VEVENT
UID:2139@dev.komedija.hr
DTSTART;TZID=Europe/Zagreb:20250312T193000
DTEND;TZID=Europe/Zagreb:20250312T220000
DTSTAMP:20250312T134808Z
URL:https://dev.komedija.hr/www/events/m-grgic-a-kabiljo-jalta-jalta-29/
SUMMARY:M. Grgić - A. Kabiljo: JALTA\, JALTA
DESCRIPTION:Podjela 12. 3. 2025.:\nNina Filipovna\, domarka vile Aramovski:
  Danijela Pintarić\nGriša\, ruski sobar: Fabijan Pavao Medvešek\nLarry\
 , američki sobar: Ronald Žlabur\nStanley\, engleski sobar: Dražen Bratu
 lić\nSamuel\, sluga u vili Aramovski: Dario Došlić\nMarfa\, sluškinja 
 u vili Aramovski: Denis Grabarić\nBrigadirka: Mila Elegović\nAmerički g
 eneral: Zlatko Ožbolt\nRuski general: Goran Malus\nEngleski general: Nedi
 m Prohić\nTomakejev\, šef ruskih agenata: Božidar Peričić\nMaki\, še
 f američkih agenata: Boris Barberić\nPetronius\, šef engleskih agenata:
  Adnan Prohić\n\nPoveznica na stranicu o predstavi nalazi se ovdje.
ATTACH;FMTTYPE=image/jpeg:https://dev.komedija.hr/www/wp-content/uploads/2
 023/12/jalta_jalta_WEB_feature-post350x245.jpg
CATEGORIES:[ KAZALIŠTE KOMEDIJA ]
END:VEVENT
BEGIN:VTIMEZONE
TZID:Europe/Zagreb
X-LIC-LOCATION:Europe/Zagreb
BEGIN:STANDARD
DTSTART:20241027T020000
TZOFFSETFROM:+0200
TZOFFSETTO:+0100
TZNAME:CET
END:STANDARD
END:VTIMEZONE
END:VCALENDAR