BEGIN:VCALENDAR
VERSION:2.0
PRODID:-//wp-events-plugin.com//7.2.3.1//EN
TZID:Europe/Zagreb
X-WR-TIMEZONE:Europe/Zagreb
BEGIN:VEVENT
UID:2368@dev.komedija.hr
DTSTART;TZID=Europe/Zagreb:20260131T200000
DTEND;TZID=Europe/Zagreb:20260131T220000
DTSTAMP:20251211T133147Z
URL:https://dev.komedija.hr/www/events/miro-ungar-kaplowitz-krizic-quartet
 -the-great-american-songbook/
SUMMARY:MIRO UNGAR &  KAPLOWITZ / KRIŽIĆ QUARTET „The Great American So
 ngbook“
DESCRIPTION:Uz pratnju četiri vrhunska jazz glazbenika\, Miro će pjevati 
 standarde iz „Velike američke pjesmarice“.&nbsp\;\n\nMiro Kaže: „P
 jesme iz „Velike američke pjesmarice“ su alfabet iz kojeg su učili s
 vi jazz glazbenici i koji je baza svemu onome što slušamo danas.\n\nU mo
 joj 69 godina dugoj karijeri pjevao sam svašta\, od „hitića“ šezdes
 etih godina\, preko domaćih šlagera\, do rock n' rolla i kabaretskih son
 gova\, ali ovu glazbu najviše cijenim i u njoj najviše uživam. Bit će 
 tu od prekrasnih balada\, do standarda jazza i swinga.&nbsp\;Pozivam sve l
 jubitelje te „evergreen“ glazbe da dođu u Kontesu i da zajedno uživa
 mo.“\n\nSjajnu glazbu pružit će vam:\nJoe Kaplowitz – klavir\nDavor 
 Križić – truba\nZvonimir Šestak – kontrabas\nJanko Novoselić – b
 ubnjevi\n\nUlaznice dostupne online na ulaznice.hr te na blagajni Kluba Ka
 zališta Komedija. Radno vrijeme blagajne je od 18:30 do 21:30\,&nbsp\;isk
 ljučivo na dane kada se održavaju predstave/programi u Klubu.
ATTACH;FMTTYPE=image/jpeg:https://dev.komedija.hr/www/wp-content/uploads/2
 025/12/Miro-Ungar-Kaplowitz_WEB_feature-post_350x245.png
CATEGORIES:KLUB KAZALIŠTA KOMEDIJA (Cesarčeva 2)
LOCATION:https://www.ulaznice.hr/web/event-browse/8/20187
END:VEVENT
BEGIN:VTIMEZONE
TZID:Europe/Zagreb
X-LIC-LOCATION:Europe/Zagreb
BEGIN:STANDARD
DTSTART:20251026T020000
TZOFFSETFROM:+0200
TZOFFSETTO:+0100
TZNAME:CET
END:STANDARD
END:VTIMEZONE
END:VCALENDAR