BEGIN:VCALENDAR
VERSION:2.0
PRODID:-//wp-events-plugin.com//7.2.3.1//EN
TZID:Europe/Zagreb
X-WR-TIMEZONE:Europe/Zagreb
BEGIN:VEVENT
UID:2161@dev.komedija.hr
DTSTART;TZID=Europe/Zagreb:20250225T203000
DTEND;TZID=Europe/Zagreb:20250225T220000
DTSTAMP:20250128T142547Z
URL:https://dev.komedija.hr/www/events/moje-pjesme-moji-snovi-danijela-pin
 taric-josip-cvitanovic-band/
SUMMARY:Danijela Pintarić & Josip Cvitanović band - "Moje pjesme moji sno
 vi"\, koncert
DESCRIPTION:"MOJE PJESME\, MOJI SNOVI" - Danijela Pintarić &amp\; Josip Cv
 itanović band\n\nPozivamo vas na atraktivno glazbeno putovanje koje će v
 as podsjetiti na dobro znane domaće i strane melodije.&nbsp\;Zvijezda mju
 zikala Danijela Pintarić\, u suradnji sa svestranim glazbenikom Josipom C
 vitanovićem i njegovim bendom\, ovom će prilikom izvesti sve one skladbe
  koje je sanjala otpjevati još od malih nogu\, što je dalo ideju i za sa
 m naziv koncerta.\n\nOsim što ćete provesti ugodnih 75 minuta u druženj
 u s lijepom glazbom u izvedbi sjajnih umjetnika\, bit ćete sudionici vide
 o i audio snimanja&nbsp\;koncerta.
ATTACH;FMTTYPE=image/jpeg:https://dev.komedija.hr/www/wp-content/uploads/2
 025/01/Moje_pjesme_moji_snovi_WEB_feature-post_350x245-1.jpg
CATEGORIES:KLUB KAZALIŠTA KOMEDIJA (Cesarčeva 2)
END:VEVENT
BEGIN:VTIMEZONE
TZID:Europe/Zagreb
X-LIC-LOCATION:Europe/Zagreb
BEGIN:STANDARD
DTSTART:20241027T020000
TZOFFSETFROM:+0200
TZOFFSETTO:+0100
TZNAME:CET
END:STANDARD
END:VTIMEZONE
END:VCALENDAR