BEGIN:VCALENDAR
VERSION:2.0
PRODID:-//wp-events-plugin.com//7.2.3.1//EN
TZID:Europe/Zagreb
X-WR-TIMEZONE:Europe/Zagreb
BEGIN:VEVENT
UID:2308@dev.komedija.hr
DTSTART;TZID=Europe/Zagreb:20251011T203000
DTEND;TZID=Europe/Zagreb:20251011T223000
DTSTAMP:20250925T112618Z
URL:https://dev.komedija.hr/www/events/nola-promocija-epa-na-drugoj-strani
 -je-oprosti/
SUMMARY:NOLA - promocija EPa "Na drugoj strani je Oprosti"
DESCRIPTION:Nola koncertno promovira svoj novi EP "Na drugoj strani je Opro
 sti".\n\nU Zagrebu nismo svirali 7 godina i nadamo se da nas se publika za
 željela koliko i mi njih.&nbsp\;Svaka pjesma je priča za sebe. Opisuje n
 aša stanja\, naše dane\, našu sreću\, našu patnju ...&nbsp\;Naš je s
 vijet oduvijek bio onaj koji spaja ljude u dobroj emociji\, suosjećanju\,
  humanosti\, ljubavi... Nitko nam bolji svijet neće napraviti umjesto nas
 . Ovo je naša mala kap.\n\nVidimo se u Klubu Kazališta Komedija u subotu
 \, 11. listopada s početkom u 20.30 sati!\n\nUlaznice dostupne online na 
 ulaznice.hr te na blagajni Kluba Kazališta Komedija. Radno vrijeme blagaj
 ne je od 18:30 do 21:30\,&nbsp\;isključivo na dane kada se održavaju pre
 dstave/programi u Klubu.
ATTACH;FMTTYPE=image/jpeg:https://dev.komedija.hr/www/wp-content/uploads/2
 025/09/1920x1005.jpg
CATEGORIES:KLUB KAZALIŠTA KOMEDIJA (Cesarčeva 2)
LOCATION:https://www.ulaznice.hr/web/event-browse/8/19747
END:VEVENT
BEGIN:VTIMEZONE
TZID:Europe/Zagreb
X-LIC-LOCATION:Europe/Zagreb
BEGIN:DAYLIGHT
DTSTART:20250330T030000
TZOFFSETFROM:+0100
TZOFFSETTO:+0200
TZNAME:CEST
END:DAYLIGHT
END:VTIMEZONE
END:VCALENDAR