BEGIN:VCALENDAR
VERSION:2.0
PRODID:-//wp-events-plugin.com//7.2.3.1//EN
TZID:Europe/Zagreb
X-WR-TIMEZONE:Europe/Zagreb
BEGIN:VEVENT
UID:2284@dev.komedija.hr
DTSTART;TZID=Europe/Zagreb:20250606T210000
DTEND;TZID=Europe/Zagreb:20250606T223000
DTSTAMP:20250527T095511Z
URL:https://dev.komedija.hr/www/events/od-ludih-do-nasih-dvadesetih-stolje
 ce-orkestralnog-jazza/
SUMMARY:Od ludih do naših dvadesetih - stoljeće orkestralnog jazza
DESCRIPTION:Od ludih do naših dvadesetih - stoljeće orkestralnog jazza\nJ
 azz orkestar HRT-a\nMiron Hauser\, dirigent\n\nProgramom koji spaja prošl
 ost i sadašnjost jazza\, Jazz orkestar HRT-a ponosno prikazuje svoju dugu
  tradiciju!\n\n„Lude dvadesete“ godine prošloga stoljeća prijelomni 
 su trenutak u povijesti glazbe - jazz se tada s ulica i klubova preselio u
  koncertne dvorane i na radijske programe te postao globalni fenomen. Jazz
  orkestri postali su glavne zvijezde plesnih dvorana\, velikih koncerata i
  ludih zabava. Simbol toga vremena postao je zvuk orkestara Dukea Ellingto
 na\, Bennyja Goodmana i Counta Basieja. Gotovo osam desetljeća kontinuira
 nog trajanja Jazz orkestra HRT-a – što ga čini jednim od najstarijih e
 uropskih radijskih big bandova – odražava turbulentan put koji je jazz 
 glazba prošla do danas\, uz istovremeno stvaranje prepoznatljivog izraza 
 usmjerenog na domaći repertoar. Bila je to vizionarska ideja dugogodišnj
 eg vođe Jazz orkestra HRT-a\, Miljenka Prohaske od čijeg se rođenja ove
  godine navršava 100 godina\, i čiji klasik Intima je u središtu ovoga 
 programa\, uz klasike Louisa Prime\,&nbsp\;Dukea Ellingtona\, Charlesa Min
 gusa\, Jeromea Richardsona i Billa Holmana. Kako je jedan od zaštitnih zn
 akova Jazz orkestra HRT-a skladateljsko stvaralaštvo samih članova\, ču
 t ćemo i skladbe Marka Šolmana i Luke Žužića\, koje donose svježinu 
 i inovaciju suvremenoga jazza\, baš kao i rukopis Jima McNeelyja.\n\nNe p
 ropustite priliku čuti zvuk jazza koji traje više od stoljeća!\n\n&nbsp
 \;
ATTACH;FMTTYPE=image/jpeg:https://dev.komedija.hr/www/wp-content/uploads/2
 025/05/Jazz_Od_ludih_do_nasih_dvadesetih_WEB_feature-post_350x245-1.jpg
CATEGORIES:KLUB KAZALIŠTA KOMEDIJA (Cesarčeva 2)
LOCATION:https://www.ulaznice.hr/web/event-browse/8/19567
END:VEVENT
BEGIN:VTIMEZONE
TZID:Europe/Zagreb
X-LIC-LOCATION:Europe/Zagreb
BEGIN:DAYLIGHT
DTSTART:20250330T030000
TZOFFSETFROM:+0100
TZOFFSETTO:+0200
TZNAME:CEST
END:DAYLIGHT
END:VTIMEZONE
END:VCALENDAR