BEGIN:VCALENDAR
VERSION:2.0
PRODID:-//wp-events-plugin.com//7.2.3.1//EN
TZID:Europe/Zagreb
X-WR-TIMEZONE:Europe/Zagreb
BEGIN:VEVENT
UID:1854@dev.komedija.hr
DTSTART;TZID=Europe/Zagreb:20240316T200000
DTEND;TZID=Europe/Zagreb:20240316T210000
DTSTAMP:20240215T142209Z
URL:https://dev.komedija.hr/www/events/p-suskind-kontrabas-11/
SUMMARY:P. Süskind: KONTRABAS
DESCRIPTION:[includeme post_id=17488]
ATTACH;FMTTYPE=image/jpeg:https://dev.komedija.hr/www/wp-content/uploads/2
 023/09/template_WEB_350x245.jpg
CATEGORIES:Gostovanje na 17. Gumbekovim danima
END:VEVENT
BEGIN:VTIMEZONE
TZID:Europe/Zagreb
X-LIC-LOCATION:Europe/Zagreb
BEGIN:STANDARD
DTSTART:20231029T020000
TZOFFSETFROM:+0200
TZOFFSETTO:+0100
TZNAME:CET
END:STANDARD
END:VTIMEZONE
END:VCALENDAR