BEGIN:VCALENDAR
VERSION:2.0
PRODID:-//wp-events-plugin.com//7.2.3.1//EN
TZID:Europe/Zagreb
X-WR-TIMEZONE:Europe/Zagreb
BEGIN:VEVENT
UID:2397@dev.komedija.hr
DTSTART;TZID=Europe/Zagreb:20260209T200000
DTEND;TZID=Europe/Zagreb:20260209T220000
DTSTAMP:20260126T144017Z
URL:https://dev.komedija.hr/www/events/pod-kazalisnim-nebom-songovi-i-stih
 ovi/
SUMMARY:POD KAZALIŠNIM NEBOM – songovi i stihovi
DESCRIPTION:Umjetnici našeg Kazališta pripremili su program koji spaja go
 vornu i pjevanu riječ\, glazbu\, pokret te publici nude stihove znane\, n
 eznane\, zaboravljene\, evergrine literature\, male kazališne štiklece
 … U Klubu Kazališta Komedija 9. veljače s početkom u 20 sati nastupit
  će Komedijini solisti i glumci&nbsp\; Sandra Bagarić\, Vlatka Burić Du
 jmović\, Mila Elegović\, Ana Magud\, Danijela Pintarić\, Vanda Winter\,
  Ervin Baučić\, Dražen Bratulić\, Ivan Glowatzky\, Damir Lončar\, Đa
 ni Stipaničev\, Adalbert Turner\, plesač Roman Vrančić te članovi ork
 estra Kazališta Komedija.\n\nUlaznice dostupne online na ulaznice.hr te n
 a blagajni Kluba Kazališta Komedija. Radno vrijeme blagajne je od 18:30 d
 o 21:30\,&nbsp\;isključivo na dane kada se održavaju predstave/programi 
 u Klubu.\n\n&nbsp\;
CATEGORIES:KLUB KAZALIŠTA KOMEDIJA (Cesarčeva 2),[ KAZALIŠTE KOMEDIJA ]
LOCATION:https://www.ulaznice.hr/web/event-browse/8/20387
END:VEVENT
BEGIN:VTIMEZONE
TZID:Europe/Zagreb
X-LIC-LOCATION:Europe/Zagreb
BEGIN:STANDARD
DTSTART:20251026T020000
TZOFFSETFROM:+0200
TZOFFSETTO:+0100
TZNAME:CET
END:STANDARD
END:VTIMEZONE
END:VCALENDAR