BEGIN:VCALENDAR
VERSION:2.0
PRODID:-//wp-events-plugin.com//7.2.3.1//EN
TZID:Europe/Zagreb
X-WR-TIMEZONE:Europe/Zagreb
BEGIN:VEVENT
UID:2394@dev.komedija.hr
DTSTART;TZID=Europe/Zagreb:20260208T200000
DTEND;TZID=Europe/Zagreb:20260208T220000
DTSTAMP:20260206T095704Z
URL:https://dev.komedija.hr/www/events/poemas-de-ida-y-vuelta/
SUMMARY:Nina Ćorić: Poemas de Ida y Vuelta
DESCRIPTION:Nina Ćorić\, vokalistica i interpretkinja flamenca\, zajedno 
 s vrhunskim glazbenicima: Mario Rašić\, Marko First i Luis Camacho Monte
 alegre\, otvara novu koncertnu sezonu jedinstvenim programom “Poemas de 
 Ida y Vuelta”. Koncert spaja autorske pjesme nastale na poeziju Federica
  García Lorce\, djela drugih umjetnika inspirirana njegovom poezijom te i
 zbor tradicionalnih flamenco i latino standarda. Autorsku glazbu potpisuju
  Mario Rašić i Marko First\, dok Nina Ćorić potpisuje adaptacije Lorki
 ne poezije\, prilagođavajući stihove glazbenom izrazu i konceptu projekt
 a.\n\nOvim koncertom započinje obilježavanje 90. godišnjice smrti velik
 og španjolskog pjesnika\, kroz glazbu koja oživljava njegove stihove i o
 tkriva ih publici na potpuno novi način.\n\nU godini kada obilježava 15 
 godina glazbenog djelovanja\, pjevačica iza sebe ima koncert u rasprodano
 m Lisinskom\, dvije nominacije za nagradu PORIN i bogatu karijeru kroz koj
 u neumorno istražuje glazbene pejzaže flamenca. “Poemas de Ida y Vuelt
 a” prilika je da publika doživi glazbenicu u njezinoj punoj snazi\, ali
  u intimnijem i bliskom okruženju.\n\nUlaznice dostupne online na ulaznic
 e.hr te na blagajni Kluba Kazališta Komedija. Radno vrijeme blagajne je o
 d 18:30 do 21:30\,&nbsp\;isključivo na dane kada se održavaju predstave/
 programi u Klubu.
ATTACH;FMTTYPE=image/jpeg:https://dev.komedija.hr/www/wp-content/uploads/2
 026/01/Nina-Coric_WEB_feature-post_350x245.png
CATEGORIES:KLUB KAZALIŠTA KOMEDIJA (Cesarčeva 2)
LOCATION:https://www.ulaznice.hr/web/event-browse/8/20368
END:VEVENT
BEGIN:VTIMEZONE
TZID:Europe/Zagreb
X-LIC-LOCATION:Europe/Zagreb
BEGIN:STANDARD
DTSTART:20251026T020000
TZOFFSETFROM:+0200
TZOFFSETTO:+0100
TZNAME:CET
END:STANDARD
END:VTIMEZONE
END:VCALENDAR