BEGIN:VCALENDAR
VERSION:2.0
PRODID:-//wp-events-plugin.com//7.2.3.1//EN
TZID:Europe/Zagreb
X-WR-TIMEZONE:Europe/Zagreb
BEGIN:VEVENT
UID:2405@dev.komedija.hr
DTSTART;TZID=Europe/Zagreb:20260418T200000
DTEND;TZID=Europe/Zagreb:20260418T220000
DTSTAMP:20260130T140727Z
URL:https://dev.komedija.hr/www/events/praznik-mjuzikla-lisinski-komedija/
SUMMARY:PRAZNIK MJUZIKLA – LISINSKI & KOMEDIJA
DESCRIPTION:Zbog velikog interesa publike\, ponovno predstavljamo veliki gl
 azbeno-scenski spektakl koji se održao za Dan Dvorane!&nbsp\;\n&nbsp\;\nS
 lavimo 50 godina prijateljstva Dvorane&nbsp\;Lisinski&nbsp\;i Kazališta K
 omedija uz poznate arije iz omiljenih mjuzikala\, uključujući legendarno
 g&nbsp\;&nbsp\;Gubec-bega\,&nbsp\;Ljepotice i Zvijeri&nbsp\;i slavnih&nbsp
 \;Jadnika&nbsp\;koje je&nbsp\;Komedija&nbsp\;upravo u&nbsp\;Lisinskom&nbsp
 \;izvela prvi put.&nbsp\;\n&nbsp\;\nOrkestar kazališta&nbsp\;Komedija&nbs
 p\;pod ravnanjem maestra&nbsp\;Krešimira Batinića&nbsp\;povest će gleda
 telje u prekrasni svijet mjuzikla\, pokazat će upravo ono u čemu su umje
 tnici tog kazališta najbolji.&nbsp\;\n&nbsp\;\nNaravno\, bit će tu svima
  poznati glazbeni brojevi iz mjuzikla&nbsp\;Jalta\,&nbsp\;Jalta\, koji je 
 postao simbol kazališta&nbsp\;Komedija\,&nbsp\;ali i iz legendarnog&nbsp\
 ;Dunda Maroja\,&nbsp\;mjuzikla nastalog na temelju poznate Držićeve kome
 dije\, za koji je glazbu skladao veliki Đelo Jusić.&nbsp\;\n&nbsp\;\nNik
 oga neće ostaviti ravnodušnim ni čuvene arije iz rock-opere slavnog And
 rewa Lloyda Webera&nbsp\;Jesus&nbsp\;Christ&nbsp\;Superstar\,&nbsp\;koja j
 e Zagrepčane oduševljavala još od prvih izvedbi 2000. godine u Dvorani&
 nbsp\;Lisinski&nbsp\;i legendarne&nbsp\;Kose&nbsp\;Galta MacDermota.&nbsp\
 ;&nbsp\;\n&nbsp\;\nEmotivni\, vješti\, pjevački izvrsni solisti kazališ
 ta&nbsp\;Komedija&nbsp\;pružit će svakom gledatelju vrlo ekskluzivni gla
 zbeni\, ali i kazališni doživljaj. Podijelit će s publikom najveće hit
 ove svojih legendarnih predstava i pružiti impresivni pregled velike&nbsp
 \;Komedijine&nbsp\;povijesti.\n&nbsp\;\nNa pozornici Koncerntne dvorane Va
 troslava Lisinskog\, u svojem drugom domu\, ti će umjetnici Zagrebu dati 
 nadahnuti i radosni događaj!&nbsp\;\n&nbsp\;\nZa vrhunske interpretacije 
 pobrinut će se&nbsp\;Renata Sabljak\, Đani Stipaničev\, Vanda Winter\, 
 Filip Hozjak\, Dražen Bratulić\, Fabijan Pavao Medvešek\, Ervin Bauči
 ć\, Ronald Žlabur\, Danijela Pintarić\,&nbsp\;Vlatka Burić Dujmović\,
  Katarina Margaretić\, Dora Trogrlić i Zrinka Kušević.&nbsp\;\nUz njih
  će nastupiti i zbor Kazališta Komedija u raskošnim ansambl brojevima.&
 nbsp\;\n&nbsp\;\nKroz program scenarista i redatelja&nbsp\;Damira&nbsp\;Lo
 nčara&nbsp\;vodit će nas poznata glumačka lica:&nbsp\;Dajana Čuljak\,&
 nbsp\;Filip Juričić&nbsp\;i&nbsp\;Roko Sikavica.&nbsp\;
ATTACH;FMTTYPE=image/jpeg:https://dev.komedija.hr/www/wp-content/uploads/2
 026/01/LISINSKI_PRAZNIK-MJUZIKLA_Web-Displays_LCD3840x2160-scaled.jpg
CATEGORIES:[ KAZALIŠTE KOMEDIJA ]
LOCATION:https://lisinski.hr/en/checkout?ID=522
END:VEVENT
BEGIN:VTIMEZONE
TZID:Europe/Zagreb
X-LIC-LOCATION:Europe/Zagreb
BEGIN:DAYLIGHT
DTSTART:20260329T030000
TZOFFSETFROM:+0100
TZOFFSETTO:+0200
TZNAME:CEST
END:DAYLIGHT
END:VTIMEZONE
END:VCALENDAR