BEGIN:VCALENDAR
VERSION:2.0
PRODID:-//wp-events-plugin.com//7.2.3.1//EN
TZID:Europe/Zagreb
X-WR-TIMEZONE:Europe/Zagreb
BEGIN:VEVENT
UID:2346@dev.komedija.hr
DTSTART;TZID=Europe/Zagreb:20251104T200000
DTEND;TZID=Europe/Zagreb:20251104T220000
DTSTAMP:20251029T081137Z
URL:https://dev.komedija.hr/www/events/predstavljanje-albuma-gazde-30-godi
 na-jos-i-danas-zamirisi-tresnja/
SUMMARY:Predstavljanje albuma GAZDE – 30 GODINA - JOŠ I DANAS ZAMIRIŠI 
 TREŠNJA
DESCRIPTION:Ove godine je trideseta obljetnica najvećeg hita&nbsp\;sastava
  Gazde Još i danas zamiriše trešnja. Povodom te velike obljetnice\, Cro
 atia Records priprema LP izdanje na kojem će se nalaziti svi najveći hit
 ovi ovog legendarnog benda\, a predstavljanje obljetničkog albuma prilika
  je za okupljanje u Klubu Kazališta Komedija.
ATTACH;FMTTYPE=image/jpeg:https://dev.komedija.hr/www/wp-content/uploads/2
 025/10/Gazde-scaled.jpg
CATEGORIES:KLUB KAZALIŠTA KOMEDIJA (Cesarčeva 2)
END:VEVENT
BEGIN:VTIMEZONE
TZID:Europe/Zagreb
X-LIC-LOCATION:Europe/Zagreb
BEGIN:STANDARD
DTSTART:20251026T020000
TZOFFSETFROM:+0200
TZOFFSETTO:+0100
TZNAME:CET
END:STANDARD
END:VTIMEZONE
END:VCALENDAR