BEGIN:VCALENDAR
VERSION:2.0
PRODID:-//wp-events-plugin.com//7.2.3.1//EN
TZID:Europe/Zagreb
X-WR-TIMEZONE:Europe/Zagreb
BEGIN:VEVENT
UID:1860@dev.komedija.hr
DTSTART;TZID=Europe/Zagreb:20240316T210000
DTEND;TZID=Europe/Zagreb:20240316T223000
DTSTAMP:20240215T142258Z
URL:https://dev.komedija.hr/www/events/saint-patricks-day-emerald-steps-be
 nd-drowsy-lizards-2/
SUMMARY:Saint Patrick's Party - Drowsy Lizards and The Emerald Steps
DESCRIPTION:\n\nPridružite nam se na večeri posvećenoj irskoj glazbi i p
 lesu. Uživajte u tradicionalnoj\, pubovskoj i suvremenoj irskoj glazbi i 
 cijeloj lepezi irskih plesova uz brojna iznenađenja! Za vas će svirati z
 agrebački bend Drowsy Lizards\, a nastup će tijekom večeri začiniti pl
 esačice irskih plesova iz plesne skupine Emerald Steps.\n\nDrowsy Lizards
  zagrebački je bend čiji repertoar sačinjava presjek klasičnih irskih 
 balada\, pubskih veselica\, instrumentalnih skladbi i plesova. Emerald Ste
 ps je plesna skupina iz Zagreba koja njeguje različite plesne stilove irs
 kih plesova (irski step\, ceili\, sean nos). Okupljamo se uz treninge\, na
 stupe\, natjecanja\, radionice i druženja.\n\nUlaznice dostupne na blagaj
 ni Oktogon (Ilica 5) i online na ulaznice.hr.\n\n\n
ATTACH;FMTTYPE=image/jpeg:https://dev.komedija.hr/www/wp-content/uploads/2
 024/02/st.-patricks-party_FB-objava_1200x1200.png
CATEGORIES:KLUB KAZALIŠTA KOMEDIJA (Cesarčeva 2)
END:VEVENT
BEGIN:VTIMEZONE
TZID:Europe/Zagreb
X-LIC-LOCATION:Europe/Zagreb
BEGIN:STANDARD
DTSTART:20231029T020000
TZOFFSETFROM:+0200
TZOFFSETTO:+0100
TZNAME:CET
END:STANDARD
END:VTIMEZONE
END:VCALENDAR