BEGIN:VCALENDAR
VERSION:2.0
PRODID:-//wp-events-plugin.com//7.2.3.1//EN
TZID:Europe/Zagreb
X-WR-TIMEZONE:Europe/Zagreb
BEGIN:VEVENT
UID:2399@dev.komedija.hr
DTSTART;TZID=Europe/Zagreb:20260210T210000
DTEND;TZID=Europe/Zagreb:20260210T230000
DTSTAMP:20260122T133326Z
URL:https://dev.komedija.hr/www/events/silver-minds-hitovi-80-tih-2/
SUMMARY:SILVER MINDS – hitovi 80-tih
DESCRIPTION:Zlatne 80-te i hitovi koji su obilježili generacije u sasvim n
 ovom ruhu i izvedbama renomiranih glazbenika. Bit će to večer za uživan
 je i\, naravno\, slobodno zapjevajte uz poznate hitove legendi poput Bowie
 ja i Stinga te Spandau Ballet\, Duran Duran...\nA sve je krenulo od običn
 e WhatsApp grupe u kojoj su se frendovi iz raznih bendova prisjećali mlad
 ih dana te na kraju okupili i ponovo zasvirali zajedno! Uživajte uz hitov
 e 80-ih uz zvuke akustične gitare\, klavira\, cajona i kontrabasa.\n\nVe
 čer za sve koji žele osjetiti nostalgiju uz toplinu akustičnog zvuka.\n
 Dobro došli!\n\nUlaznice dostupne online na ulaznice.hr te na blagajni Kl
 uba Kazališta Komedija. Radno vrijeme blagajne je od 18:30 do 21:30\,&nbs
 p\;isključivo na dane kada se održavaju predstave/programi u Klubu.
ATTACH;FMTTYPE=image/jpeg:https://dev.komedija.hr/www/wp-content/uploads/2
 026/01/Silver_Minds_WEB_feature-post_350x245.jpg
CATEGORIES:KLUB KAZALIŠTA KOMEDIJA (Cesarčeva 2)
LOCATION:https://www.ulaznice.hr/web/event-browse/8/20347
END:VEVENT
BEGIN:VTIMEZONE
TZID:Europe/Zagreb
X-LIC-LOCATION:Europe/Zagreb
BEGIN:STANDARD
DTSTART:20251026T020000
TZOFFSETFROM:+0200
TZOFFSETTO:+0100
TZNAME:CET
END:STANDARD
END:VTIMEZONE
END:VCALENDAR