BEGIN:VCALENDAR
VERSION:2.0
PRODID:-//wp-events-plugin.com//7.2.3.1//EN
TZID:Europe/Zagreb
X-WR-TIMEZONE:Europe/Zagreb
BEGIN:VEVENT
UID:2236@dev.komedija.hr
DTSTART;TZID=Europe/Zagreb:20250508T210000
DTEND;TZID=Europe/Zagreb:20250508T230000
DTSTAMP:20250508T114733Z
URL:https://dev.komedija.hr/www/events/sjecanja-by-parmachy/
SUMMARY:Sjećanja by Parmachy
DESCRIPTION:Nakon dva rasprodana koncerta i bezbroj upita pozivamo &nbsp\;v
 as na koncert obitelji Parmać pod nazivom “Sjećanja” i sjetite se na
 jljepših hitova uz očaravajuce harmonije naših Sanje\, Nede i Tomislava
 . Parmachy vas pozivaju na jos jednu nezaboravnu večer ispunjenu pjesmom\
 , smijehom i plesom.
ATTACH;FMTTYPE=image/jpeg:https://dev.komedija.hr/www/wp-content/uploads/2
 025/04/Sjecanja-by-Parmachy_WEB_feature-post_350x245.png
CATEGORIES:KLUB KAZALIŠTA KOMEDIJA (Cesarčeva 2)
LOCATION:https://www.ulaznice.hr/web/event-browse/8/19267
END:VEVENT
BEGIN:VTIMEZONE
TZID:Europe/Zagreb
X-LIC-LOCATION:Europe/Zagreb
BEGIN:DAYLIGHT
DTSTART:20250330T030000
TZOFFSETFROM:+0100
TZOFFSETTO:+0200
TZNAME:CEST
END:DAYLIGHT
END:VTIMEZONE
END:VCALENDAR