BEGIN:VCALENDAR
VERSION:2.0
PRODID:-//wp-events-plugin.com//7.2.3.1//EN
TZID:Europe/Zagreb
X-WR-TIMEZONE:Europe/Zagreb
BEGIN:VEVENT
UID:1624@dev.komedija.hr
DTSTART;TZID=Europe/Zagreb:20230329T200000
DTEND;TZID=Europe/Zagreb:20230329T220000
DTSTAMP:20230315T154909Z
URL:https://dev.komedija.hr/www/events/sketch-improv-show/
SUMMARY:Sketch Improv Show
DESCRIPTION:BIS comedy s ponosom predstavlja Sketch Improv Show!\n\nZašto 
 morate doći na ovaj show?\nZato što sve ono što komičari izvode nastaj
 e na licu mjesta – uživo pred vama! Improvizacijska komedija je spontan
 a\, brza\, raznovrsna i prije svega – urnebesno zabavna! Komičari prola
 ze kroz različite situacije i uloge koje zadaje publika. Da\, vi ste vrlo
  bitan dio ove večeri! Sve scene koje ćemo igrati publika predlaže a ko
 mičari oblikuju u duhovite situacije. Hoće li to biti kauboj u svemiru\,
  veterinar kod doktora ili balerina mesar – to ćete vi odlučiti!\nI na
 jbolje od svega – na show se uvijek možete iznova vraćati jer nikada n
 eće biti identičan!\nGlavni akteri ove jedinstvene večeri su Goran Vin
 čić Vinča\, Zlatan Zuhrić Zuhra\, Tin Sedlar i Marko Dejanović!
ATTACH;FMTTYPE=image/jpeg:https://dev.komedija.hr/www/wp-content/uploads/2
 023/03/Sketch-Improv-show-Event-cover-Kontesa-29-03.jpg
CATEGORIES:KLUB KAZALIŠTA KOMEDIJA (Cesarčeva 2)
END:VEVENT
BEGIN:VTIMEZONE
TZID:Europe/Zagreb
X-LIC-LOCATION:Europe/Zagreb
BEGIN:DAYLIGHT
DTSTART:20230326T030000
TZOFFSETFROM:+0100
TZOFFSETTO:+0200
TZNAME:CEST
END:DAYLIGHT
END:VTIMEZONE
END:VCALENDAR