BEGIN:VCALENDAR
VERSION:2.0
PRODID:-//wp-events-plugin.com//7.2.3.1//EN
TZID:Europe/Zagreb
X-WR-TIMEZONE:Europe/Zagreb
BEGIN:VEVENT
UID:2317@dev.komedija.hr
DTSTART;TZID=Europe/Zagreb:20251023T210000
DTEND;TZID=Europe/Zagreb:20251023T230000
DTSTAMP:20251023T141137Z
URL:https://dev.komedija.hr/www/events/soul-funk-rb-zlatne-70-te-uz-jedins
 tveni-the-muff/
SUMMARY:Soul\, Funk\, R&B - Zlatne 70-te uz jedinstveni The Muff
DESCRIPTION:The Muff je osnovan 2022. godine u sastavu\, Leoni Finocchirao 
 – gitara\, vokal\, Mario Žuvela – kontrabas\, Josip Tocilj – klavij
 ature\, Hrvoje Mimica – bubnjevi\,&nbsp\;Oleg Ingvarsson - saksofon&nbsp
 \; i Krešimir Tomić Bonzo – gitara.&nbsp\;\n\nRiječ je o iskusnim muz
 ičarima koji su svirali u bendovima poput Sick Swing Orchestra\, Grupe Sr
 ž\, Gadjo Manouche\, Small House Brown\, Cool Shakes i mnogim drugim uspj
 ešnim bendovima. Na svom repertoaru imaju uglavnom pjesme iz 70-ih godina
  od autora poput Stevie Wondera\, Donny Hathawaya\, The Stuff i drugih Sou
 l\, Funk i R&amp\;B velikana.&nbsp\;\n\nU pripremi je i prvi autorski albu
 m pod radnim nazivom „Konjokradice“. Način njihove izvedbe je specifi
 čan\, po uzoru na grupu The Stuff koja je 70-ih godina prošloga stoljeć
 a odredila taj stil sviranja. A kakav je to stil\, možete čuti i vidjeti
  na njihovim koncertima.\n\nVidimo se u Klubu Kazališta Komedija u četvr
 tak 23. listopada od 21 sat!\n\nUlaznice dostupne online na ulaznice.hr te
  na blagajni Kluba Kazališta Komedija. Radno vrijeme blagajne je od 18:30
  do 21:30\,&nbsp\;isključivo na dane kada se održavaju predstave/program
 i u Klubu.
ATTACH;FMTTYPE=image/jpeg:https://dev.komedija.hr/www/wp-content/uploads/2
 025/09/the-muff_WEB_feature-post_350x245.png
CATEGORIES:KLUB KAZALIŠTA KOMEDIJA (Cesarčeva 2)
END:VEVENT
BEGIN:VTIMEZONE
TZID:Europe/Zagreb
X-LIC-LOCATION:Europe/Zagreb
BEGIN:DAYLIGHT
DTSTART:20250330T030000
TZOFFSETFROM:+0100
TZOFFSETTO:+0200
TZNAME:CEST
END:DAYLIGHT
END:VTIMEZONE
END:VCALENDAR