BEGIN:VCALENDAR
VERSION:2.0
PRODID:-//wp-events-plugin.com//7.2.3.1//EN
TZID:Europe/Zagreb
X-WR-TIMEZONE:Europe/Zagreb
BEGIN:VEVENT
UID:1567@dev.komedija.hr
DTSTART;TZID=Europe/Zagreb:20221217T200000
DTEND;TZID=Europe/Zagreb:20221217T214500
DTSTAMP:20221214T082039Z
URL:https://dev.komedija.hr/www/events/t-grumic-ko-je-ubio-dzenis-dzoplin/
SUMMARY:T. Grumić: KO JE UBIO DŽENIS DŽOPLIN?
DESCRIPTION:Produkcija: Srpsko narodno pozorište i Omladinska prestonica E
 vrope Novi Sad\, OPENS\n\n&nbsp\;\n\nTijana Grumić\n\nKO JE UBIO DŽENIS 
 DŽOPLIN?\n\n&nbsp\;\n\nKoncept i režija: Sonja Petrović\n\nDramaturg: N
 ikolina Đukanović\n\nLikovno rešenje kostima: Senka Ranosavljević\n\nS
 cenograf: Željko Piškorić\n\nScenografiju ilustrovale: Nada Božić i A
 na Mihajlov Čupić\n\nDizajn svetla: Tihomir Boroja\n\nScenski pokret: Mi
 ra Beba Dobrković\n\n&nbsp\;\n\nIgraju:\n\nBojana Milanović\n\nSonja Kes
 ler\n\nStefan Vukić\n\nDimitrije Aranđelović\n\nVukašin Ranđelović\n
 \nPetar Banjac\n\nFilip Grubač\n\nIgor Sakač\n\n&nbsp\;\n\nInspicijent: 
 Snežana Radovanov\n\nSufler: Srđan Stojnović\n\nIzbor kostima: Snežana
  Horvat\n\nAsistent scenografa: Nadica Danilovac\n\nDizajn plakata: Nada B
 ožić i Ana Mihajlov Čupić\n\n&nbsp\;\n\nPredstava traje 1 sat i 45 min
 uta.\n\n&nbsp\;\n\nUlaz je slobodan.\n\nPredstava se održava u sklopu Dan
 a srpske kulture uz podršku Savjeta za nacionalne manjine Republike Hrvat
 ske\n\nRezervacije na:&nbsp\;skdprosvjeta@skdprosvjeta.com\n\nili telefono
 m 01/4872480\, karte je moguće podići u SKD Prosvjeta do petka 16. 12. 2
 022. od 8-16 sati ili&nbsp\; 17. 12. 2022. od 19 sati na blagajni Kazališ
 ta Komedija\, Kaptol 9\n\n&nbsp\;\n\n*****\n\n&nbsp\;\n\nReč autorke\, Ti
 jane Grumić\, dramaturškinje:\n\n&nbsp\;\n\nDanas nam je teško da zamis
 limo vreme u kojem je ženama bilo zabranjeno da nose pantalone ili u koje
 m je bilo nedopustivo da se bave rokenrolom\, ali Dženis Džoplin je odra
 stala upravo u jednom takvom vremenu.\n\nNažalost\, Dženis Džoplin dana
 s ređe pamtimo po tome šta je sve uradila za žensku borbu i emancipacij
 u žena\, a češće po načinu na koji je živela\, pa na kraju i umrla\,
  a koji mahom osuđujemo. Isto tako\, sve ono što danas znamo o Dženis\,
  a što nije njena duboko potresna i dirljiva muzika\, jeste ono što čuj
 emo od ljudi koji (misle da) su je poznavali kroz razne intervjue\, knjige
  i filmove o njoj. Zbog toga je nastao ovaj komad – napisan je za pozori
 šte\, jer je pozorište jedini medij u kojem možemo da damo glas upravo 
 samoj Dženis Džoplin da konačno ispriča svoju priču. Nije važno da l
 i je ta priča istinita\, zasnovana na činjenicama ili hronološki dosled
 na\, važno je da je ta priča konačno njena. Nezamislivo je teško biti 
 među prvima koje reše da nose pantalone\, pevaju rokenrol ili odluče da
  se ne udaju i imaju decu jer „to tako treba“. Zato što je bilo njih 
 takvih koje su u nečemu bile prve\, nama danas je malo lakše da biramo i
  ne budemo uvek osuđivane zbog naših izbora\, iako se\, budimo iskreni\,
  našoj borbi ni blizu ne nazire kraj.\n\n&nbsp\;\n\n*****\n\n&nbsp\;\n\nR
 eč rediteljke\, Sonje Petrović:\n\n&nbsp\;\n\nKada sam razmišljala o to
 me da uradim predstavu o osobi\, koja mi je bila uzor i inspiracija u tine
 jdžerskom periodu\, uvek sam o njoj mislila kao o dvema osobama. Evidentn
 o je njeno dvojstvo\; njena dva lika i njene dve priče. Jedna priča o ne
 sigurnoj\, nežnoj\, neprihvaćenoj i nezaštićenoj devojčici i ona drug
 a o hrabroj\, agresivnoj začetnici novog spiska kriterijuma za žene. Jed
 na zbog koje je živela i ona druga zbog koje je umrla. Jedna koja je išl
 a ka svom kraju da bi druga počela. Tek kasnije nailazim na podatak da je
  Dženis dobila ime po bogu Janusu. U pitanju je rimski bog kraja i počet
 ka. On je obično prikazivan sa dva lica\, jedno gleda u početak\, a drug
 o u svoj kraj.\n\nStoga\, ova predstava omaž je jednoj ženi koja je doš
 la do svog kraja da bi se desio novi početak.\n\nOva predstava je omaž m
 uzici kakva više ne postoji. Muzici koja nema formulu za uspeh nego emoci
 ju za deljenje. Muzici koja nije matematika nego organska potreba. Želim 
 da ova predstava inspiriše i osnaži mnoge da budu ono što jesu\, a ne o
 no što se od njih očekuje ili im se kao obavezno nameće.\n\nDon’t com
 promise yourself you’re all you’ve got.\n\nDženis Džoplin nikada nij
 e imala taj mercedes koji je bio stvar prestiža. Vozila je porše. Međut
 im\, pre par godina njen porše prodat je na aukciji za rekordnih 1.76 mil
 iona dolara. Ispostavlja se da je postavila nove standarde vrednosti.\n\nI
  guess I’m just like a turtle\n\nThat’s hidin’ underneath its horny 
 shell.\n\n&nbsp\;\n\n*****\n\n&nbsp\;\n\nNagrade:\n\n&nbsp\;\n\n 	„Dani 
 Zorana Radmilovića“\, Zaječar:\n\n– „Zoranov brk“ – Bojana Mil
 anović za ulogu Dženis Džoplin\n\n– Nagrada najboljem mladom glumcu 
 – Sonja Isailović za ulogu Dženis Džoplin\n\n– Nagrada publike\, pr
 osečnom ocenom 9\,82 – „Ko je ubio Dženis Džoplin“\n\n&nbsp\;\n\n
  	festival „Teatar na raskršću“\, NP Niš:\n\n– Nagrada za najbolj
 u mladu glumicu za uloženu i ispoljenu energiju i dubok glumački doživl
 jaj inspirisan mitom Dženis Džoplin\, u predstavi \,\,Ko je ubio Dženis
  Džoplin” – Sonja Isailović\n\n– Nagrada za najbolju žensku ulogu
  – za težak zadatak u tumačenju mita Dženis Džoplin neočekivanim i 
 nesvakidašnjim glumačkim sredstvima u predstavi \,\,Ko je ubio Dženis D
 žoplin” – Bojana Milanović\n\n&nbsp\;\n\n 	internacionalni festival 
 Viminacijum fest – „Mitovi stari i novi“:\n\nNagrada „Zlatna fibul
 a“ za najboljeg glumca/glumicu\, Bojani Milanović i Sonji Isailović za
  ulogu Dženis Džoplin\, Viminacijum fest\, 2021.\n\n&nbsp\;\n\n 	Međuna
 rodni festival pozorišta Teatar fest „Petar Kočić“ 2021\, Banjaluka
 :\n\n– Najbolja predstava festivala – „Ko je ubio Dženis Džoplin?
 “\n\n– Specijalna nagrada za mlade glumice\, za ulogu Dženis Džoplin
  – Sonja Isailović i Bojana Milanović\n\n– Nagrada za najbolju reži
 ju – Sonja Petrović\n\n– Nagrada „Korak u hrabrost 2021“ – Sonj
 a Petrović\n\n&nbsp\;\n\n 	Nagrada „Predrag Peđa Tomanović“ – Son
 ja Isailović i Bojana Milanović za ulogu Dženis Džoplin\, 2021.\n\n&nb
 sp\;\n\n&nbsp\;\n\n 	Sterijino pozorje:\n\n– Sterijina nagrada za scensk
 i govor – ansambl predstave Ko je ubio Dženis Džoplin?\n\n– Sterijin
 a nagrada iz Fonda „Dara Darinka Čalenić” za najbolju mladu glumicu 
 – Bojana Milanović\n\n– Nagrada publike 65. Sterijinog pozorja za naj
 bolju predstavu (prosečna ocena 4\,72)\n\n– Nagrada redakcije novosadsk
 og lista „Dnevnik” za umetničko ostvarenje – Bojana Milanović\n\n&
 nbsp\;\n\n 	Joakimfest 2020\, Kragujevac:\n\n– Specijalna nagrada grada 
 Kragujevca za uloge Dženis Džoplin u predstavi Ko je ubio Dženis Džopl
 in? – Bojana Milanović i Sonja Isailović
ATTACH;FMTTYPE=image/jpeg:https://dev.komedija.hr/www/wp-content/uploads/2
 022/12/ko-je-ubio.png
END:VEVENT
BEGIN:VTIMEZONE
TZID:Europe/Zagreb
X-LIC-LOCATION:Europe/Zagreb
BEGIN:STANDARD
DTSTART:20221030T020000
TZOFFSETFROM:+0200
TZOFFSETTO:+0100
TZNAME:CET
END:STANDARD
END:VTIMEZONE
END:VCALENDAR