BEGIN:VCALENDAR
VERSION:2.0
PRODID:-//wp-events-plugin.com//7.2.3.1//EN
TZID:Europe/Zagreb
X-WR-TIMEZONE:Europe/Zagreb
BEGIN:VEVENT
UID:2388@dev.komedija.hr
DTSTART;TZID=Europe/Zagreb:20260202T203000
DTEND;TZID=Europe/Zagreb:20260202T223000
DTSTAMP:20260127T153758Z
URL:https://dev.komedija.hr/www/events/tango-appassionato-koncert/
SUMMARY:Tango Appassionato\, koncert
DESCRIPTION:Glazbeni kvartet Tango Appassionato stiže u Klub Kazališta Ko
 medija i donosi jedinstveni zvuk inspiriran glazbom 30-ih godina prošlog 
 stoljeća\, s posebnim naglaskom na neodoljivi tango ritam. Njihov prepozn
 atljiv stil spaja kabaretsku i salonsku glazbu\, tango i čardaš\, te don
 osi nostalgiju zlatnih vremena građanske kavane – sve u savršenoj ravn
 oteži sjete i strasti.\n\nDoživite zavodljive melodije\, snažne ritmove
  i atmosferu koja osvaja na prvu notu. Prepustite se tangu – vidimo se!\
 n\nUlaznice možete kupiti online na ulaznice.hr te na blagajni Kluba Kaza
 lišta Komedija. Radno vrijeme blagajne je od 18:30 do 21:30\,&nbsp\;isklj
 učivo na dane kada se održavaju predstave/programi u Klubu.\n\n&nbsp\;
ATTACH;FMTTYPE=image/jpeg:https://dev.komedija.hr/www/wp-content/uploads/2
 026/01/TANGO_APPASSIONATO_WEB_feature-post_350x245.jpg
CATEGORIES:KLUB KAZALIŠTA KOMEDIJA (Cesarčeva 2)
LOCATION:https://www.ulaznice.hr/web/event-browse/8/20308
END:VEVENT
BEGIN:VTIMEZONE
TZID:Europe/Zagreb
X-LIC-LOCATION:Europe/Zagreb
BEGIN:STANDARD
DTSTART:20251026T020000
TZOFFSETFROM:+0200
TZOFFSETTO:+0100
TZNAME:CET
END:STANDARD
END:VTIMEZONE
END:VCALENDAR