BEGIN:VCALENDAR
VERSION:2.0
PRODID:-//wp-events-plugin.com//7.2.3.1//EN
TZID:Europe/Zagreb
X-WR-TIMEZONE:Europe/Zagreb
BEGIN:VEVENT
UID:1492@dev.komedija.hr
DTSTART;TZID=Europe/Zagreb:20221111T200000
DTEND;TZID=Europe/Zagreb:20221111T213000
DTSTAMP:20221110T125812Z
URL:https://dev.komedija.hr/www/events/the-messengers-koncert/
SUMMARY:THE MESSENGERS\, koncert
DESCRIPTION:Gospel sastav The Messengers:\n\n&nbsp\;\n\nVokalni sastav The 
 Messengers osnovan je 11. studenog 2002. godine u Zagrebu i od tada djeluj
 e pod umjetničkim vodstvom Matije Škvorca.\n\nSastav\, već 20 godina ok
 uplja zaljubljenike u duhovnu glazbu i a capella pjevanje\, a uz gospel i 
 negro spiritual glazbu\, u posljednje vrijeme repertoaru dodaje i neke jaz
 z i pop standarde\, izvodeći ih i dalje na svoj specifičan i prepoznatlj
 iv način.\n\nMessengersi\, u prijevodu Glasnici\, nositelji su radosne vi
 jesti. To poručuju i svojim sloganom „Bringing you the good news“\, j
 er su dobra vijest i dobra atmosfera koju prenose nešto što ih prati kro
 z sve godine pjesme i nastupa.\n\nSastav bilježi brojne nastupe u hrvatsk
 oj metropoli\, ali i diljem Hrvatske te u inozemstvu. Među zapaženije na
 stupe Messengersa svakako spada nastup na Uskrs festu 2008.\, u suradnji s
  grupom Laudantes iz Šibenika\, kada osvajaju nagradu publike. Treba spom
 enuti i nastup na Tonka festu 2009.\, kada osvajaju drugu nagradu žirija\
 , a tu je i nastup na hodočašću u talijanskoj Macerati\, kada su The Me
 ssengers gospelom oduševili čak 55.000 okupljenih.\n\nMessengersi su do 
 sada objavili tri nosača zvuka u nakladi Laudata. Prvi nosač zvuka s tra
 dicionalnim gospel i negro spiritual pjesmama\, pod nazivom „Good News
 “\, objavili su 2011.\, 2014. album „Total Praise“ te 2018. live alb
 um po nazivom "SwINGIN' with The Messengers".\n\n2016. godine sudjelovali 
 su na natjecanju zborova i vokalnih sastava „Festival glazbe Zagreb 2016
 .“\, te osvojili prvo mjesto i zlatnu plaketu u kategoriji slobodno viš
 eglasje a 2018. godine su osvojili zlato i prvo mjesto na svjetskom natjec
 anju u Veroni u kategoriji jazz\, blues\, swing i gospel.\n\n11.11.2022. T
 he Messengersi će obilježiti 20 godina postojanja velikim koncertom u Za
 grebačkom gradskom kazalištu Komedija. Gosti na koncertu će biti Renata
  Sabljak\, Đani Stipaničev\, Adalbert Turner Juci\, Tomislav Goluban te 
 band kazališta Komedija\, Alan Dović\, Berislav Arlavi\, Martin Petrači
 ć\, Berislav Antica te Ivan Lukšić.\n\nUlaznice možete kupiti online i
 li na blagajnama kazališta Komedija.
ATTACH;FMTTYPE=image/jpeg:https://dev.komedija.hr/www/wp-content/uploads/2
 022/09/MessengersPoster_B2_WEBmanji.png
END:VEVENT
BEGIN:VTIMEZONE
TZID:Europe/Zagreb
X-LIC-LOCATION:Europe/Zagreb
BEGIN:STANDARD
DTSTART:20221030T020000
TZOFFSETFROM:+0200
TZOFFSETTO:+0100
TZNAME:CET
END:STANDARD
END:VTIMEZONE
END:VCALENDAR