BEGIN:VCALENDAR
VERSION:2.0
PRODID:-//wp-events-plugin.com//7.2.3.1//EN
TZID:Europe/Zagreb
X-WR-TIMEZONE:Europe/Zagreb
BEGIN:VEVENT
UID:1673@dev.komedija.hr
DTSTART;TZID=Europe/Zagreb:20230603T203000
DTEND;TZID=Europe/Zagreb:20230603T223000
DTSTAMP:20230531T090657Z
URL:https://dev.komedija.hr/www/events/the-percussion-club/
SUMMARY:The Percussion Club
DESCRIPTION:&nbsp\;"Rijetkost je i pred sobom imati vrhunske akademske glaz
 benike koji na koncertima posežu za širom paletom repertoara\, ulazeći 
 i u pop žanr\, imajući na umu upravo dopadljivost i efektnost glazbe kao
  jednu od premisa odabira programa."\n\nSrđana Vrsalović za glazba.hr
ATTACH;FMTTYPE=image/jpeg:https://dev.komedija.hr/www/wp-content/uploads/2
 023/05/216751261_101967715503135_2390129829387147097_n.jpg
END:VEVENT
BEGIN:VTIMEZONE
TZID:Europe/Zagreb
X-LIC-LOCATION:Europe/Zagreb
BEGIN:DAYLIGHT
DTSTART:20230326T030000
TZOFFSETFROM:+0100
TZOFFSETTO:+0200
TZNAME:CEST
END:DAYLIGHT
END:VTIMEZONE
END:VCALENDAR