BEGIN:VCALENDAR
VERSION:2.0
PRODID:-//wp-events-plugin.com//7.2.3.1//EN
TZID:Europe/Zagreb
X-WR-TIMEZONE:Europe/Zagreb
BEGIN:VEVENT
UID:2307@dev.komedija.hr
DTSTART;TZID=Europe/Zagreb:20251010T210000
DTEND;TZID=Europe/Zagreb:20251010T230000
DTSTAMP:20250925T112506Z
URL:https://dev.komedija.hr/www/events/transakustik-ljubav-koja-traje/
SUMMARY:TransAkustik feat. Tedi Spalato - "Ljubav koja traje"
DESCRIPTION:Nakon što su prošle godine rasprodali zagrebački Klub Kazali
 šta Komedija koncertom Transakustična večer: od bluesa do sevdaha te os
 vojili publiku i kritiku\, glazbeni sastav TransAkustik ususret 10. godiš
 njici benda donosi svoj novi koncertni koncept – "Ljubav koja traje".\n\
 nPublika će u petak\, 10. listopada 2025.\, imati priliku doživjeti najv
 eće ljubavne priče ispričane kroz glazbu. Na repertoaru su bezvremenske
  pjesme domaćih i stranih autora\, u novim\, originalnim aranžmanima koj
 i otkrivaju sasvim nove nijanse emocija. Poznati evergreeni i pomalo zabor
 avljeni glazbeni dragulji zasjat će u posebnom ugođaju\, pretvarajući k
 oncertnu večer u glazbeno putovanje kroz ljubav koja ostaje.\n\nVrhunski 
 glazbenici\, vrhunski gost\nSvojim prepoznatljivim zvukom i autentičnim i
 nterpretacijama\, TransAkustik i ovoga puta obećavaju nezaboravan doživl
 jaj\, uz vrhunske glazbene goste. Poseban gost koncerta je Tedi Spalato\, 
 čiji će prepoznatljiv vokal i interpretacija dodatno obogatiti program.\
 nTranAkusik je odlučio na ovaj koncert pozvati i vrhunske glazbenike - Da
 rka Bakića na gitari\, Hrvoja Pekasa na bas gitari\, Danka Krznarića na 
 klavijaturama\, Dadu Rakića na gitari\, Danijela Curića na trubi\, Vikto
 ra Margana na bubnjevima\, te Vinka Didovića na harmonici.\nKoncert "Ljub
 av koja traje" nije samo glazbeni događaj\, već i emotivno iskustvo koje
  povezuje generacije i podsjeća na to da ljubav\, baš poput glazbe\, tra
 je zauvijek.\n\nIva Ivković Ivanišević iz TransAkustika je najavljujuć
 i ovaj koncert rekla: "Vraćamo se u Zagreb i u Klub Kazališta Komedija 
 – prostor koji ima dušu i koji sam po sebi već ispriča pola priče. N
 a nama je da tu priču oplemenimo pjesmama o ljubavi – onoj koja traje\,
  mijenja se\, ali uvijek ostaje. ‘Ljubav koja traje’ je glazbeni vreme
 plov kroz neke od najljepših ljubavnih pjesama. One velike\, one tihe\, o
 ne izgubljene i one koje još uvijek traju – sve su one zaslužile novo 
 transakustično ruho. To znači da ćemo\, kao i obicno\, povezati stilove
  od bluesa do svedaha i autorskih pjesama. Od Tome Bebića\, Jadranke Stoj
 aković\, Kiće i Olivera do Cohena i Claptona. Biti opjevan u pjesmi je k
 ao ostaviti trag koji ništa ne može izbrisati. I vjerujem da će upravo 
 ta emocija biti ono što će publika osjetiti u ovoj posebnoj večeri.\n\n
 Dolazimo s fantastičnim glazbenicima koji su puno više od pratnje – on
 i su naši sugovornici na pozornici. Svaki ton\, svaki aranžman nosi njih
 ov rukopis."\n\nTransAkustik uspješno nastavlja nizati i autorske pjesme 
 te su ovog ljeta imali zapažen nastup na Melodijama Jadrana gdje su nastu
 pili uz bok najvećim imena hrvatske glazbe s pjesmom "Sada slavimo" koju 
 prati odličan spot!\n\nUlaznice dostupne online na ulaznice.hr te na blag
 ajni Kluba Kazališta Komedija. Radno vrijeme blagajne je od 18:30 do 21:3
 0\,&nbsp\;isključivo na dane kada se održavaju predstave/programi u Klub
 u.
ATTACH;FMTTYPE=image/jpeg:https://dev.komedija.hr/www/wp-content/uploads/2
 025/09/TransAkustik-Klub-Kazalista-Komedija-2025.png
CATEGORIES:KLUB KAZALIŠTA KOMEDIJA (Cesarčeva 2)
LOCATION:https://www.ulaznice.hr/web/event-browse/8/19727
END:VEVENT
BEGIN:VTIMEZONE
TZID:Europe/Zagreb
X-LIC-LOCATION:Europe/Zagreb
BEGIN:DAYLIGHT
DTSTART:20250330T030000
TZOFFSETFROM:+0100
TZOFFSETTO:+0200
TZNAME:CEST
END:DAYLIGHT
END:VTIMEZONE
END:VCALENDAR