BEGIN:VCALENDAR
VERSION:2.0
PRODID:-//wp-events-plugin.com//7.2.3.1//EN
TZID:Europe/Zagreb
X-WR-TIMEZONE:Europe/Zagreb
BEGIN:VEVENT
UID:2321@dev.komedija.hr
DTSTART;TZID=Europe/Zagreb:20251007T200000
DTEND;TZID=Europe/Zagreb:20251007T230000
DTSTAMP:20250925T123443Z
URL:https://dev.komedija.hr/www/events/v-szente-momacka-vecer-13/
SUMMARY:V. Szente: MOMAČKA VEČER
DESCRIPTION:
CATEGORIES:Gostovanje u Bjelovaru,[ KAZALIŠTE KOMEDIJA ]
END:VEVENT
BEGIN:VTIMEZONE
TZID:Europe/Zagreb
X-LIC-LOCATION:Europe/Zagreb
BEGIN:DAYLIGHT
DTSTART:20250330T030000
TZOFFSETFROM:+0100
TZOFFSETTO:+0200
TZNAME:CEST
END:DAYLIGHT
END:VTIMEZONE
END:VCALENDAR