BEGIN:VCALENDAR
VERSION:2.0
PRODID:-//wp-events-plugin.com//7.2.3.1//EN
TZID:Europe/Zagreb
X-WR-TIMEZONE:Europe/Zagreb
BEGIN:VEVENT
UID:2386@dev.komedija.hr
DTSTART;TZID=Europe/Zagreb:20260214T210000
DTEND;TZID=Europe/Zagreb:20260214T230000
DTSTAMP:20260205T120836Z
URL:https://dev.komedija.hr/www/events/valentinovo-by-parmachy/
SUMMARY:Valentinovo by Parmachy
DESCRIPTION:Nakon nekoliko uspješnih koncerata u Klubu Kazališta Komedija
 \, obiteljski band Parmachy ponovno vas daruje glazbom!\n\nBand čine sest
 re Neda i Sanja Parmać\, pjevačice čiji se glasovi savršeno stapaju u 
 emotivne interpretacije\, te Tomislav Parmać\, pijanist i korepetitor Kaz
 ališta Komedija\, čija virtuoznost daje poseban pečat svakom nastupu. O
 ve godine odlučili su se posvetiti koncertnim nastupima kako bi se pribli
 žili široj publici i donijeli dašak atmosfere svog dnevnog boravka – 
 iskreno\, toplo i s puno emocija.\n\nPozivamo vas da zajedno proslavimo Da
 n zaljubljenih\, 14. veljače u klubu Kazališta Komedija. Ove večeri už
 ivat ćemo u najljepšim baladama domaće i strane glazbene scene.\n\nDođ
 ite i prepustite se glazbi koja dira dušu!\n\nVidimo se!\n\nUlaznice dost
 upne online na ulaznice.hr te na blagajni Kluba Kazališta Komedija. Radno
  vrijeme blagajne je od 18:30 do 21:30\, isključivo na dane kada se održ
 avaju predstave/programi u Klubu.
ATTACH;FMTTYPE=image/jpeg:https://dev.komedija.hr/www/wp-content/uploads/2
 026/01/Parmaci_WEB_feature-post_350x245.jpg
CATEGORIES:KLUB KAZALIŠTA KOMEDIJA (Cesarčeva 2)
LOCATION:https://www.ulaznice.hr/web/event-browse/8/20291
END:VEVENT
BEGIN:VTIMEZONE
TZID:Europe/Zagreb
X-LIC-LOCATION:Europe/Zagreb
BEGIN:STANDARD
DTSTART:20251026T020000
TZOFFSETFROM:+0200
TZOFFSETTO:+0100
TZNAME:CET
END:STANDARD
END:VTIMEZONE
END:VCALENDAR