BEGIN:VCALENDAR
VERSION:2.0
PRODID:-//wp-events-plugin.com//7.2.3.1//EN
TZID:Europe/Zagreb
X-WR-TIMEZONE:Europe/Zagreb
BEGIN:VEVENT
UID:2298@dev.komedija.hr
DTSTART;TZID=Europe/Zagreb:20250919T210000
DTEND;TZID=Europe/Zagreb:20250919T230000
DTSTAMP:20250820T090018Z
URL:https://dev.komedija.hr/www/events/vecer-olivera-by-parmachy/
SUMMARY:Večer Olivera by Parmachy
DESCRIPTION:Predstavljamo vam obiteljski trio Parmachy&nbsp\;– glazbeni s
 astav koji čine sestre Neda i Sanja Parmać te brat Tomislav Parmać. Ses
 tre su priznate vokalistice\, dok Tomislav\, uz to što je virtuozan pijan
 ist\, osvaja i svojim snažnim glasom\, čineći ovaj trio jedinstvenim sp
 ojem višeglasja i instrumentalne izvrsnosti.\n\nOva glazbeno izuzetna tro
 jka svoju duboku obiteljsku povezanost i strast prema glazbi pretače u na
 stupe koji ostavljaju publiku bez daha. Trio Parmachy spaja iskustvo škol
 ovanih glazbenika s besprijekornom harmonijom\, donoseći izvedbe koje odi
 šu toplinom\, emotivnošću i umjetničkom snagom.\n\nPozivamo vas da im 
 se pridružite na koncertu u čast neponovljivom Oliveru Dragojeviću\, ko
 ji će se održati 19. rujna 2025. u Klubu Kazališta Komedija. Doživite 
 magiju glazbe kroz nezaboravne interpretacije trija Parmachy i proslavimo 
 zajedno uspomenu na legendu hrvatske glazbe!
ATTACH;FMTTYPE=image/jpeg:https://dev.komedija.hr/www/wp-content/uploads/2
 025/06/Parmaci_WEB_feature-post_350x245.jpg
CATEGORIES:KLUB KAZALIŠTA KOMEDIJA (Cesarčeva 2)
LOCATION:https://www.ulaznice.hr/web/event-browse/8/19647
END:VEVENT
BEGIN:VTIMEZONE
TZID:Europe/Zagreb
X-LIC-LOCATION:Europe/Zagreb
BEGIN:DAYLIGHT
DTSTART:20250330T030000
TZOFFSETFROM:+0100
TZOFFSETTO:+0200
TZNAME:CEST
END:DAYLIGHT
END:VTIMEZONE
END:VCALENDAR