BEGIN:VCALENDAR
VERSION:2.0
PRODID:-//wp-events-plugin.com//7.2.3.1//EN
TZID:Europe/Zagreb
X-WR-TIMEZONE:Europe/Zagreb
BEGIN:VEVENT
UID:2228@dev.komedija.hr
DTSTART;TZID=Europe/Zagreb:20250529T200000
DTEND;TZID=Europe/Zagreb:20250529T220000
DTSTAMP:20250509T122811Z
URL:https://dev.komedija.hr/www/events/vecer-s-leonardom-cohenom-maja-posa
 vec-i-ivan-kapec/
SUMMARY:VEČER S LEONARDOM COHENOM - Maja Posavec i Ivan Kapec
DESCRIPTION:VEČER S LEONARDOM COHENOM\nMaja Posavec i Ivan Kapec\n\nOd 201
 7 Maja Posavec te jazz gitarist Ivan Kapec održavaju koncerte na kojima i
 zvode isključivo djela Leonarda. Koncert je intimna\, poetska večer u ko
 joj se pjevaju i govore Cohenovi stihovi. Ovaj program izazvao je veliki i
 nteres publike\, o čemu svjedoče brojni rasprodani koncerti u Hrvatskoj\
 , Bosni i Hercegovini i Srbiji. Istoimeni album koji je nekoliko tjedana b
 io na vrhu najprodavanijih albuma izdali su 2019. Za svoj rad dobivaju poh
 vale kritike i publike koja se ovom koncertu iznova vraća. Prve tri godin
 e ovaj su koncert izvodili uglavnom kao duo\, a u zadnje vrijeme izvode ga
  i s kvartetom najboljih hrvatskih jazz glazbenika: Borko Rupena na bubnje
 vima\, Jurica Štelma na kontrabasu\, Mario Bočić na saksofonu i Ivan Ka
 pec na bariton gitari. Ovaj put vraćaju se na scenu kao duo i donose inte
 rpretacije i nekih novih pjesama koje do sada nisu izvodili.\nPočetna ide
 ja ovog koncerta je bila meditativna poetična večer. Već na prvim proba
 ma je bilo očito da umjetnici ne namjeravaju samo obraditi Cohena\, već 
 tražiti osobnu interpretaciju. To se dogodilo spontano\, budući da su i 
 Maja Posavec i gitarist Ivan Kapec ljubitelji i čitatelji poezije\, a Iva
 n je i sam nedavno objavio zbirku pjesama Život u modrozelenoj aleji.\nPu
 blika je s povjerenjem reagirala na njihove interpretacije i pratila ih od
  koncerta do koncerta. Stvorivši polje povjerenja razmjenjivali su svoje 
 tuge\, boli\, strasti i radosti\, a sve kroz njima omiljene Cohenove pjesm
 e.\n\n&nbsp\;\n\nIZ RECENZIJA KONCERTA:\n\nNaposljetku\, još jedno svjedo
 čanstvo o dugovječnosti i aktualnosti Cohenovih pjesama predstavlja i ov
 aj jedinstven album\, koji uz Leonarda potpisuje dvoje istaknutih hrvatski
 h glazbenika\, versatilni jazz i fusion gitarist Ivan Kapec i mlada kantau
 torica osebujnog i sugestivnog glasa\, Maja Posavec. Al\, da podsjetimo\, 
 riječ je o glazbenicima koji u vrijeme objavljivanja Cohenovog prvog albu
 ma ‘Songs of Leonard Cohen’ (1967) još nisu bili ni rođeni! Ovo samo
  po sebi možda i više od svega svjedoči o izuzetnom senzibilitetu i umj
 ešnosti ovih naših glazbenika koji su\, bez obzira na vremensku i geogra
 fsku izmještenost\, te usprkos stilskoj raznovrsnosti Cohenovog opusa (ko
 ji svoja ishodišta nalazi u sjeverno-američkom folku\, francuskoj šanso
 n i andaluzijskom flamenku) uspjeli dubinski proniknuti u srž Cohenovog k
 anona…\nDamir Šodan\, tekst uz CD izdanje albuma Večer s Leonardom Co
 henom\n\nSve (“nad”)ljudske\, zapravo pjesnikove\, umjetnikove\, sumnj
 e\, nesigurnosti\, neumitnosti (istinitosti) ili jednom rječju “sigurn
 ost” (ljubav)\, pretočene su u hod po rubu i unutar\, u dubinama\, ove
  večeri koju je nama i sebi darovala Maja Posavec. Gitara\, Ivan Kapec\,
  bas\, bubnjevi i saksofon pratili su je na tom putu koji je u isto vrijem
 e i „utabana“ staza (set lista sastavljena je od pjesama koje bi prepo
 znao i neekspert za Kanađaninovu pjesmaricu) i široko polje otvoreno za 
 novo- staro vlastito čitanje ovih prekrasnih stihova (boli) i lijepe\, c
 ̌esto bolne glazbe.\nŽeljko Mirković\, Music box\n\nMaja Posavec još 
 jednom je pokazala savršeno razumijevanje opusa Leonarda Cohena\, gestiku
 lacijama\, originalnim Cohenovim poetskim upadicama\, pomnim odabirom redo
 slijeda pjesama u ovoj posveti i naravno i sjajnim vokalnim improvizacijam
 a i reinterpretacijama koje su obilježene sasvim drugačijim muškim vok
 alom u originalnim izvedbama tih antologijskih pjesama.\nAlen Mikec\, Trec
 ́i svijet\n\n&nbsp\;\n\nIvan Kapec\nGitarist i kompozitor Ivan Kapec akti
 vno se bavi jazzom i elektroničkom glazbom od 90-ih. Svirao je u brojnim
  hrvatskim jazz ansamblima\, a 2001. osniva vlastiti trio s kojim snima dv
 a albuma\, “Lancun” i “Bava”. Također je osnivač multimedijalne
  skupine “Trianguli Zona” s kojom je nastupao na brojnim festivalima u
  zemlji i inozemstvu. Od 2009. vodi sastav Capisconne \, a zajedno s DJ La
 boshom autor je projekta “Loop Chamber Music”\, a s Borko Rupenom elek
 tro-akustičnog improvise dua “Sonic Diptych”. EP “Activity”\, sa
 stava Capisconne objavljen je za meksičku net etiketu “Breathe Compila
 tion“. Taj album svrstan je među pet najboljih Creative Commons albuma 
 u 2009. Godine 2011. surađuju s rumunjskim etno ansamblom “Anton Pann B
 and” iz čega je nastao album “Emerging Landscapes”.\n2014 Capiscon
 ne objavljuje hvaljeni album “Time traveling”\, za koji je opširnu bi
 lješku na CD-u napisao novinar portala “All About Jazz” John Kelman. 
 Londonski label Dubmission uvrstio je tri Kapecove elektronske skladbe u k
 ompilaciju “Next dubmission”. Ivanove skladbe\, među ostalima\, izvod
 ili su Big Band HRT-a\, multiinstrumentalist Ratko Vojtek i Varaždinski k
 omorni orkestar\, a napravio je i velik broj skladbi za filmove i umjetnic
 ̌ke video instalacije. Ivan je nastupao u Hrvatskoj\, Sloveniji\, Njemac
 ̌koj\, Švicarskoj\, Bosni i Hercegovini\, SAD\, Češkoj\, Turskoj i It
 aliji. U posljednje vrijeme vodi sessione electro-jazza pod nazivom „Sun
 rise Sessions“ kao novu platformu za razvoj kreativne scene improvise gl
 azbe u Hrvatskoj. Zajedno s Jankom Novoselićem\, s kojim svira u grupi K
 ozmodrum\, pokrenuo je izdavačku kuću Zona Muzika. Ivan je pisao za c
 ̌asopis WAM i uređivao je temat o glazbi u časopisu Quorum. Također u
 ređuje i radio emisiju „Jazzolovka“ koja promovira novu improvise i j
 azz glazbu u regiji.\n\nMaja Posavec\nMaja Posavec je nagrađivana glumica
  i glazbenica\, s više od 15 godina iskustva na glazbenoj i kazališnoj s
 ceni. Bila je članica ansambla kazališta Kerempuh\, a često sudjeluje u
  produkcijama kazališta Ulysses. Glazbeno-poetski cabaret “Balade Petri
 ce Kerempuha” 2007 je na neki način usmjerio njezin rad u kazalištu ko
 ji se najčešće isprepliće s glazbenim teatrom. Najčešće se radi o a
 utorskoj glazbi i pjevačkim dijelovima igre. Dramske uloge su dio Majinog
  rada u kazalištu i na filmu. Za svoj glumački rad nagrađivana je brojn
 im nagradama (Nagrada hrvatskog glumišta\, Najbolje glumačko ostvarenje 
 Dani hrvatskog filma (2013 i 2020)\, Nagrada za najbolju mladu glumicu na 
 Festivalu Glumca\, i druge). Uz glumački angažman drugi dio njenog kreat
 ivnog rada je i onaj glazbeni. Kao koautorica i autorica djelovala je u gr
 upi Detour\, a nakon izlaska iz grupe izdala je dva autorska albuma na hrv
 atskom jeziku i jedan na engleskom jeziku. Aktivno se bavi glazbom kroz ra
 zne suradnje s glazbenicima\, te koncertnim nastupima. Njezin najuspješni
 ji glazbeni projekt je izvođenje djela Leonarda Cohena u kojem spaja govo
 renje poezije i izvođenje Cohenovih pjesama s jazz glazbenicima. Često s
 urađuje kao autorica glazbe u predstavama Ivora Martinića. Svoju edukaci
 ju obogatila je magisterijem na sveučilištu Catalyst u Berlinu gdje koje
 m se bavila umjetničkim istraživanjem bajki kroz autorsku glazbu.
ATTACH;FMTTYPE=image/jpeg:https://dev.komedija.hr/www/wp-content/uploads/2
 025/03/Maja_Posavec_Vecer_s_Leonardom_Cohenom_WEB_feature-post_350x245.jpg
CATEGORIES:KLUB KAZALIŠTA KOMEDIJA (Cesarčeva 2)
LOCATION:https://www.ulaznice.hr/web/event-browse/8/19189
END:VEVENT
BEGIN:VTIMEZONE
TZID:Europe/Zagreb
X-LIC-LOCATION:Europe/Zagreb
BEGIN:DAYLIGHT
DTSTART:20250330T030000
TZOFFSETFROM:+0100
TZOFFSETTO:+0200
TZNAME:CEST
END:DAYLIGHT
END:VTIMEZONE
END:VCALENDAR