BEGIN:VCALENDAR
VERSION:2.0
PRODID:-//wp-events-plugin.com//7.2.3.1//EN
TZID:Europe/Zagreb
X-WR-TIMEZONE:Europe/Zagreb
BEGIN:VEVENT
UID:2333@dev.komedija.hr
DTSTART;TZID=Europe/Zagreb:20251107T210000
DTEND;TZID=Europe/Zagreb:20251107T230000
DTSTAMP:20251014T104747Z
URL:https://dev.komedija.hr/www/events/vecer-sevdaha-ruzica-maurus-3/
SUMMARY:Večer sevdaha - Ružica Maurus
DESCRIPTION:"Večer sevdaha - Ružica Maurus" treći je po redu zajednički
  koncert mladih zaposlenika Kazališta Komedija\, Ružice Maurus\, glumice
 \, i Tomislava Parmaća\, klavirista. Nakon prva dva\, više nego uspješn
 a koncerta\, na trećem će im pridružiti i Dorian Milinković na klarine
 tu te Neven Šverko na violončelu a kao posebna gošća s Ružicom će za
 pjevati Tia Miljanović.\n\nNe propuste večer prepunu emocija u kojoj će
 te uživati u sevdahu\, etno glazbi\, te makedonskim i hrvatskim tradicion
 alnim melodijama\, s naglaskom na sevdah. Vidimo se u Klubu Kazališta Kom
 edija u petak\, 7. studenoga u 21 sat.\n\nUlaznice dostupne online na ulaz
 nice.hr te na blagajni Kluba Kazališta Komedija. Radno vrijeme blagajne j
 e od 18:30 do 21:30\,&nbsp\;isključivo na dane kada se održavaju predsta
 ve/programi u Klubu.\n\n&nbsp\;\n\n&nbsp\;
ATTACH;FMTTYPE=image/jpeg:https://dev.komedija.hr/www/wp-content/uploads/2
 025/10/vecer-sevdaha_ruzica-maurus_WEB_feature-post_350x245.jpg
CATEGORIES:KLUB KAZALIŠTA KOMEDIJA (Cesarčeva 2)
LOCATION:https://www.ulaznice.hr/web/event-browse/8/19987
END:VEVENT
BEGIN:VTIMEZONE
TZID:Europe/Zagreb
X-LIC-LOCATION:Europe/Zagreb
BEGIN:STANDARD
DTSTART:20251026T020000
TZOFFSETFROM:+0200
TZOFFSETTO:+0100
TZNAME:CET
END:STANDARD
END:VTIMEZONE
END:VCALENDAR