BEGIN:VCALENDAR
VERSION:2.0
PRODID:-//wp-events-plugin.com//7.2.3.1//EN
TZID:Europe/Zagreb
X-WR-TIMEZONE:Europe/Zagreb
BEGIN:VEVENT
UID:2255@dev.komedija.hr
DTSTART;TZID=Europe/Zagreb:20250611T211500
DTEND;TZID=Europe/Zagreb:20250611T223000
DTSTAMP:20250529T104522Z
URL:https://dev.komedija.hr/www/events/viktor-cizic-got-rhythm/
SUMMARY:Viktor Čižić: GOT RHYTHM?
DESCRIPTION:„Got Rhythm?“ je performans koji se nalazi negdje na granic
 i između koncerta i predstave. Koncertni dio čine najpoznatija djela ame
 ričkog skladatelja Georgea Gershwina (Rapsodija u plavom\, Amerikanac u P
 arizu\, Kubanska uvertira\, te izbor najpopularnijih pjesama – Summertim
 e\, I Got Rhythm\, The Man I Love\, S’Wonderful…)\, dok je ono sve izm
 eđu jedna duhovita mješavina glazbenih skečeva\, predavanja o astronomi
 ji\, nepotrebnih (ali interesantnih) crtica iz Gershwinovog života – i 
 slično.\n\nSurađujući već par godina na predstavi „Od tišine do gla
 zbe“ – a i dijeleći fascinaciju glazbom Georgea Gershwina\, glumac Iv
 an Đuričić i pijanist Viktor Čižić osmislili su ovaj autorski „one
  man show“ kao predstavu u kojoj je jedini izvođač pijanist\, a jedini
  rekvizit – klavir! Osim za izvođenje kapitalnih Gershwinovih djela\, k
 lavir povremeno služi i kao pozadinska glazba u nekom piano baru\, nekad 
 samo postavlja zvukovnu atmosferu\, tu i tamo je glazbeni komentator\, a u
  jednom mini-skeču „glumi“ i Gershwinov vlastiti klavir\, uz kojeg je
  napisao svoju prvu pjesmu.
ATTACH;FMTTYPE=image/jpeg:https://dev.komedija.hr/www/wp-content/uploads/2
 025/04/Got_Rhythm_WEB_feature-post_350x245-1.jpg
CATEGORIES:KLUB KAZALIŠTA KOMEDIJA (Cesarčeva 2)
END:VEVENT
BEGIN:VTIMEZONE
TZID:Europe/Zagreb
X-LIC-LOCATION:Europe/Zagreb
BEGIN:DAYLIGHT
DTSTART:20250330T030000
TZOFFSETFROM:+0100
TZOFFSETTO:+0200
TZNAME:CEST
END:DAYLIGHT
END:VTIMEZONE
END:VCALENDAR