BEGIN:VCALENDAR
VERSION:2.0
PRODID:-//wp-events-plugin.com//7.2.3.1//EN
TZID:Europe/Zagreb
X-WR-TIMEZONE:Europe/Zagreb
BEGIN:VEVENT
UID:2288@dev.komedija.hr
DTSTART;TZID=Europe/Zagreb:20250628T210000
DTEND;TZID=Europe/Zagreb:20250628T220000
DTSTAMP:20250618T121916Z
URL:https://dev.komedija.hr/www/events/zagreb-classic-broadway-dance-show/
SUMMARY:ZAGREB CLASSIC: BROADWAY DANCE SHOW
DESCRIPTION:Redateljica i koreografkinja: Tihana Strmečki\n\nKostimografki
 nja: Mirjana Zagorec\nAsistentica koreografkinje: Ivona Grubišić Pupić\
 nKoreografkinja step plesa: Vendy Zajec\n*dijelovi predstave inspirirani s
 u plesnim pokretima Bob Fossea\n\n\nULOGE\n\nBaletni ansambl Kazališta:\n
 \nStela Gajski\n\nEmil Kuzminski\n\nMateja Kuzminski\n\nTamara Masnjak\n\n
 Morana Paškiević\n\nPetra Radošević\n\nKarlo Topolovec\n\nRoman Vranč
 ić\n\n&nbsp\;\n\nVanjski suradnici:\n\nBernard Barač\n\nTea Cvetan\n\nAn
 drea Granić\n\nPatricija Kršić\n\nHana Samardžić\n\nLucija Tandara\n\
 nDominik Valić\n\nFran Žuglić\n\n&nbsp\;\n\nInspicijentica: Iva Olujić
 \n\nPremijera: subota\, 28. lipnja 2025.\, Trg kralja Tomislava&nbsp\;\n\n
 Trajanje: cca 60 minuta bez stanke\n\n„Broadway Dance Show“ nezaboravn
 a je eksplozija pokreta inspirirana najslavnijim brodvejskim plesnim stilo
 vima. U originalnom konceptu autorica i redateljica Tihana Strmečki u dra
 maturški razrađenoj strukturi izmjenjuje skladbe iz svjetski poznatih mj
 uzikala 20. i 21. stoljeća\, koje kroz plesnu umjetnost interpretira vrhu
 nski baletni ansambl kazališta Komedije uz potporu izvrsnih vanjskih sura
 dnika posebno odabranih na velikoj audiciji. Od jazza u stilu Bob Fosseja\
 , preko tipično raskošnog brodvejskog stila\, ritmičnog step plesa\, do
  modernijeg fusion izričaja\, ansambl predstave donosi publici blistav sj
 aj scene\, vrtoglave sekvence i svevremensku energiju mjuzikla.\n\nArhiva 
 Kazališta navodi: „U Komediji se oduvijek plesalo\, od njezina početka
  1950. godine\, ponekad u obliku samostalnih cjelovečernjih baleta\, če
 šće u mjuziklima kao potpora glavnoj radnji.“ „Broadway Dance Show
 “ postavlja plesnu umjetnost naprijed i centralno. Ansambl sastavljen od
  šesnaest virtuoznih plesača svojom tehničkom preciznosti\, scenskom ka
 rizmom i izražajnosti podiže svaku koreografiju na visoki umjetnički ni
 vo. Scenom dominira muzikalnost i ritmička kontrola\, u jazz sekvencama p
 osebno se ističu snaga\, fluidnost i elegancija pokreta\, dok lyrical jaz
 z donosi trenutke poetske introspekcije kroz nježnost i izražajnost. Ova
  raznolikost ne samo da oslikava bogatstvo plesnog Broadwaya\, već i potv
 rđuje tehničku superiornost umjetnika koji bez napora prelaze iz jedne f
 orme u drugu\, potvrđujući svoj status izvođača svjetske klase.\n\nU p
 redstavi se isprepliću etide u kojima solisti nose tematsku cjelinu odre
 đenog perioda brodvejske povijesti. U nju je utkana i povijest mjuzikala 
 uprizorenih na daskama Komedije\, čija izvrsnost postavlja visoki nivo za
  sve što dolazi na scenu u budućnosti. Koristeći motive prošlosti\, u 
 predstavi se ukazuje i na mogući daljnji smjer odabira repertoara. Predst
 ava ne samo da slavi plesno naslijeđe Komedije i Broadwaya\, već ga i os
 uvremenjuje\, pružajući publici uzbudljivo i emotivno bogato scensko isk
 ustvo.\n\n„Broadway Dance Show“ slavlje je umjetnosti pokreta\, čista
  adrenalinska injekcija ritma\, snage i glamura – spektakl koji se ne pr
 opušta!\n\nTihana Strmečki\, redateljica\, koreografkinja i plesna pedag
 oginja\, svoje kazališno znanje dugi niz godina izrađuje u najvećim svj
 etskim centrima\, a posebno na Broadwayu (New York City). Tijekom svoje ka
 rijere režirala je i/ili koreografirala dramske predstave\, cjelovečernj
 e mjuzikle\, koncerte\, predstave za djecu i mlade\, plesne produkcije\, g
 lazbene spotove i reklame\, kao i scenski pokret za više od pedeset kazal
 išnih naslova.&nbsp\;\n\nMeđu najzapaženijim projektima ističu se rež
 ija mjuzikl-spektakla&nbsp\;Poljubi me\, Kato&nbsp\;(HNK Ivan pl. Zajc\, R
 ijeka) te koncert&nbsp\;U ritmu Broadwaya\, oba višestruko nagrađivana z
 a umjetnička postignuća. Redateljica je i popularnih dramskih komada kao
  što su&nbsp\;Puni pansion&nbsp\;(B Glad produkcija) i&nbsp\;Iza paravana
 &nbsp\;(Kazalište KNAP). Kao koreografkinja ostvarila je velik uspjeh na 
 mjuziklu&nbsp\;Jadnici&nbsp\;(Kazalište Komedija\, Zagreb) te na švicars
 koj produkciji mjuzikla&nbsp\;Heidi\, koju je u samo mjesec dana pogledalo
  više od 45.000 gledatelja. U pripremi je i njezin angažman na novom mju
 ziklu&nbsp\;Chaplin.\n\nTijekom karijere kreativno je surađivala na brojn
 im velikim produkcijama uključujući&nbsp\;Evitu\,&nbsp\;Sunset Boulevard
 \,&nbsp\;Ljepoticu i zvijer\,&nbsp\;Flashdance&nbsp\;i mnoge druge. Njezin
  rad predstavljen je u nizu kazališnih institucija diljem Hrvatske\, uklj
 učujući Gradsko kazalište Žar ptica\, KD Vatroslav Lisinski\, Kazališ
 te Kerempuh\, Kazalište KNAP te kroz rad s B Glad produkcijom i drugim ne
 zavisnim kućama.\n\nOsnivačica je i umjetnička voditeljica plesnog klub
 a&nbsp\;JazzElle\, a kao tražena predavačica vodi plesne radionice i mas
 terclasseve diljem Hrvatske\, Europe i u New York Cityu. Članica je stru
 čnih žirija brojnih domaćih i međunarodnih plesnih i kazališnih natje
 canja.
ATTACH;FMTTYPE=image/jpeg:https://dev.komedija.hr/www/wp-content/uploads/2
 025/06/E13_9661-scaled.jpg
CATEGORIES:Na Trgu kralja Tomislava u Zagrebu,[ KAZALIŠTE KOMEDIJA ]
END:VEVENT
BEGIN:VTIMEZONE
TZID:Europe/Zagreb
X-LIC-LOCATION:Europe/Zagreb
BEGIN:DAYLIGHT
DTSTART:20250330T030000
TZOFFSETFROM:+0100
TZOFFSETTO:+0200
TZNAME:CEST
END:DAYLIGHT
END:VTIMEZONE
END:VCALENDAR